BEGIN:VCALENDAR
VERSION:2.0
PRODID:-//Melbourne Lifestyle Apartments - ECPv6.15.18//NONSGML v1.0//EN
CALSCALE:GREGORIAN
METHOD:PUBLISH
X-ORIGINAL-URL:https://melbournelifestyleapartments.com
X-WR-CALDESC:Events for Melbourne Lifestyle Apartments
REFRESH-INTERVAL;VALUE=DURATION:PT1H
X-Robots-Tag:noindex
X-PUBLISHED-TTL:PT1H
BEGIN:VTIMEZONE
TZID:UTC
BEGIN:STANDARD
TZOFFSETFROM:+0000
TZOFFSETTO:+0000
TZNAME:UTC
DTSTART:20220101T000000
END:STANDARD
END:VTIMEZONE
BEGIN:VEVENT
DTSTART;VALUE=DATE:20240108
DTEND;VALUE=DATE:20240109
DTSTAMP:20260422T224729
CREATED:20240116T045212Z
LAST-MODIFIED:20240116T045719Z
UID:12316-1704672000-1704758399@melbournelifestyleapartments.com
SUMMARY:AUSTRALIAN OPEN 2024
DESCRIPTION:Get set for the epic return of the Australian Open in January 2024! \nSo many stories have been forged at Melbourne Park – from dramatic wins by next-gen superstars to thrilling victories by history-making champions. \nThis year\, you can kick off the summer with AO Opening Week. Feel every serve\, every rally and every moment as players gear up for the Grand Slam that hits different. \nAO24 promises to be bigger and better than ever!
URL:https://melbournelifestyleapartments.com/event/australian-open-2024/
LOCATION:Rod Laver Arena\, Olympic Blvd\, Melbourne\, Victoria\, 3001\, Australia
CATEGORIES:Sport
ATTACH;FMTTYPE=image/jpeg:https://melbournelifestyleapartments.com/wp-content/uploads/2024/01/AO24-23-167-1300-x-730px-72-768x431-1.jpg
END:VEVENT
BEGIN:VEVENT
DTSTART;TZID=UTC:20240113T193000
DTEND;TZID=UTC:20240113T223000
DTSTAMP:20260422T224729
CREATED:20230801T024806Z
LAST-MODIFIED:20230801T024806Z
UID:11456-1705174200-1705185000@melbournelifestyleapartments.com
SUMMARY:Melbourne Renegades v Melbourne Stars
DESCRIPTION:Join us as the Melbourne Renegades take on Melbourne Stars for BBL|13.
URL:https://melbournelifestyleapartments.com/event/melbourne-renegades-v-melbourne-stars/
LOCATION:MARVEL Stadium\, 740 Bourke Street\, Docklands\, Victoria\, 3008\, Australia
CATEGORIES:Sport
ATTACH;FMTTYPE=image/jpeg:https://melbournelifestyleapartments.com/wp-content/uploads/2023/08/renegadesstars11012201.jpg
END:VEVENT
BEGIN:VEVENT
DTSTART;VALUE=DATE:20240108
DTEND;VALUE=DATE:20240109
DTSTAMP:20260422T224729
CREATED:20240116T045212Z
LAST-MODIFIED:20240116T045719Z
UID:12316-1704672000-1704758399@melbournelifestyleapartments.com
SUMMARY:AUSTRALIAN OPEN 2024
DESCRIPTION:Get set for the epic return of the Australian Open in January 2024! \nSo many stories have been forged at Melbourne Park – from dramatic wins by next-gen superstars to thrilling victories by history-making champions. \nThis year\, you can kick off the summer with AO Opening Week. Feel every serve\, every rally and every moment as players gear up for the Grand Slam that hits different. \nAO24 promises to be bigger and better than ever!
URL:https://melbournelifestyleapartments.com/event/australian-open-2024/
LOCATION:Rod Laver Arena\, Olympic Blvd\, Melbourne\, Victoria\, 3001\, Australia
CATEGORIES:Sport
ATTACH;FMTTYPE=image/jpeg:https://melbournelifestyleapartments.com/wp-content/uploads/2024/01/AO24-23-167-1300-x-730px-72-768x431-1.jpg
END:VEVENT
BEGIN:VEVENT
DTSTART;VALUE=DATE:20240108
DTEND;VALUE=DATE:20240109
DTSTAMP:20260422T224729
CREATED:20240116T045212Z
LAST-MODIFIED:20240116T045719Z
UID:12316-1704672000-1704758399@melbournelifestyleapartments.com
SUMMARY:AUSTRALIAN OPEN 2024
DESCRIPTION:Get set for the epic return of the Australian Open in January 2024! \nSo many stories have been forged at Melbourne Park – from dramatic wins by next-gen superstars to thrilling victories by history-making champions. \nThis year\, you can kick off the summer with AO Opening Week. Feel every serve\, every rally and every moment as players gear up for the Grand Slam that hits different. \nAO24 promises to be bigger and better than ever!
URL:https://melbournelifestyleapartments.com/event/australian-open-2024/
LOCATION:Rod Laver Arena\, Olympic Blvd\, Melbourne\, Victoria\, 3001\, Australia
CATEGORIES:Sport
ATTACH;FMTTYPE=image/jpeg:https://melbournelifestyleapartments.com/wp-content/uploads/2024/01/AO24-23-167-1300-x-730px-72-768x431-1.jpg
END:VEVENT
BEGIN:VEVENT
DTSTART;VALUE=DATE:20240108
DTEND;VALUE=DATE:20240109
DTSTAMP:20260422T224729
CREATED:20240116T045212Z
LAST-MODIFIED:20240116T045719Z
UID:12316-1704672000-1704758399@melbournelifestyleapartments.com
SUMMARY:AUSTRALIAN OPEN 2024
DESCRIPTION:Get set for the epic return of the Australian Open in January 2024! \nSo many stories have been forged at Melbourne Park – from dramatic wins by next-gen superstars to thrilling victories by history-making champions. \nThis year\, you can kick off the summer with AO Opening Week. Feel every serve\, every rally and every moment as players gear up for the Grand Slam that hits different. \nAO24 promises to be bigger and better than ever!
URL:https://melbournelifestyleapartments.com/event/australian-open-2024/
LOCATION:Rod Laver Arena\, Olympic Blvd\, Melbourne\, Victoria\, 3001\, Australia
CATEGORIES:Sport
ATTACH;FMTTYPE=image/jpeg:https://melbournelifestyleapartments.com/wp-content/uploads/2024/01/AO24-23-167-1300-x-730px-72-768x431-1.jpg
END:VEVENT
BEGIN:VEVENT
DTSTART;VALUE=DATE:20240108
DTEND;VALUE=DATE:20240109
DTSTAMP:20260422T224729
CREATED:20240116T045212Z
LAST-MODIFIED:20240116T045719Z
UID:12316-1704672000-1704758399@melbournelifestyleapartments.com
SUMMARY:AUSTRALIAN OPEN 2024
DESCRIPTION:Get set for the epic return of the Australian Open in January 2024! \nSo many stories have been forged at Melbourne Park – from dramatic wins by next-gen superstars to thrilling victories by history-making champions. \nThis year\, you can kick off the summer with AO Opening Week. Feel every serve\, every rally and every moment as players gear up for the Grand Slam that hits different. \nAO24 promises to be bigger and better than ever!
URL:https://melbournelifestyleapartments.com/event/australian-open-2024/
LOCATION:Rod Laver Arena\, Olympic Blvd\, Melbourne\, Victoria\, 3001\, Australia
CATEGORIES:Sport
ATTACH;FMTTYPE=image/jpeg:https://melbournelifestyleapartments.com/wp-content/uploads/2024/01/AO24-23-167-1300-x-730px-72-768x431-1.jpg
END:VEVENT
BEGIN:VEVENT
DTSTART;VALUE=DATE:20240108
DTEND;VALUE=DATE:20240109
DTSTAMP:20260422T224729
CREATED:20240116T045212Z
LAST-MODIFIED:20240116T045719Z
UID:12316-1704672000-1704758399@melbournelifestyleapartments.com
SUMMARY:AUSTRALIAN OPEN 2024
DESCRIPTION:Get set for the epic return of the Australian Open in January 2024! \nSo many stories have been forged at Melbourne Park – from dramatic wins by next-gen superstars to thrilling victories by history-making champions. \nThis year\, you can kick off the summer with AO Opening Week. Feel every serve\, every rally and every moment as players gear up for the Grand Slam that hits different. \nAO24 promises to be bigger and better than ever!
URL:https://melbournelifestyleapartments.com/event/australian-open-2024/
LOCATION:Rod Laver Arena\, Olympic Blvd\, Melbourne\, Victoria\, 3001\, Australia
CATEGORIES:Sport
ATTACH;FMTTYPE=image/jpeg:https://melbournelifestyleapartments.com/wp-content/uploads/2024/01/AO24-23-167-1300-x-730px-72-768x431-1.jpg
END:VEVENT
BEGIN:VEVENT
DTSTART;VALUE=DATE:20240108
DTEND;VALUE=DATE:20240109
DTSTAMP:20260422T224729
CREATED:20240116T045212Z
LAST-MODIFIED:20240116T045719Z
UID:12316-1704672000-1704758399@melbournelifestyleapartments.com
SUMMARY:AUSTRALIAN OPEN 2024
DESCRIPTION:Get set for the epic return of the Australian Open in January 2024! \nSo many stories have been forged at Melbourne Park – from dramatic wins by next-gen superstars to thrilling victories by history-making champions. \nThis year\, you can kick off the summer with AO Opening Week. Feel every serve\, every rally and every moment as players gear up for the Grand Slam that hits different. \nAO24 promises to be bigger and better than ever!
URL:https://melbournelifestyleapartments.com/event/australian-open-2024/
LOCATION:Rod Laver Arena\, Olympic Blvd\, Melbourne\, Victoria\, 3001\, Australia
CATEGORIES:Sport
ATTACH;FMTTYPE=image/jpeg:https://melbournelifestyleapartments.com/wp-content/uploads/2024/01/AO24-23-167-1300-x-730px-72-768x431-1.jpg
END:VEVENT
BEGIN:VEVENT
DTSTART;TZID=UTC:20240104T191500
DTEND;TZID=UTC:20240104T221500
DTSTAMP:20260422T224729
CREATED:20230801T024610Z
LAST-MODIFIED:20230801T024610Z
UID:11453-1704395700-1704406500@melbournelifestyleapartments.com
SUMMARY:Melbourne Renegades v Hobart Hurricanes
DESCRIPTION:Join us as the Melbourne Renegades take on Hobart Hurricanes for BBL|13.
URL:https://melbournelifestyleapartments.com/event/melbourne-renegades-v-hobart-hurricanes/
LOCATION:MARVEL Stadium\, 740 Bourke Street\, Docklands\, Victoria\, 3008\, Australia
CATEGORIES:Sport
ATTACH;FMTTYPE=image/jpeg:https://melbournelifestyleapartments.com/wp-content/uploads/2023/08/renegadeshurricanespre23122101.jpg
END:VEVENT
BEGIN:VEVENT
DTSTART;TZID=UTC:20231229T191500
DTEND;TZID=UTC:20231229T221500
DTSTAMP:20260422T224729
CREATED:20230801T025252Z
LAST-MODIFIED:20230801T025252Z
UID:11462-1703877300-1703888100@melbournelifestyleapartments.com
SUMMARY:Melbourne Renegades v Adelaide Strikers
DESCRIPTION:Join us as the Melbourne Renegades take on Adelaide Strikers for BBL|13.
URL:https://melbournelifestyleapartments.com/event/melbourne-renegades-v-adelaide-strikers/
LOCATION:MARVEL Stadium\, 740 Bourke Street\, Docklands\, Victoria\, 3008\, Australia
CATEGORIES:Sport
ATTACH;FMTTYPE=image/jpeg:https://melbournelifestyleapartments.com/wp-content/uploads/2023/08/renegadesstrikerspre06122101.jpg
END:VEVENT
BEGIN:VEVENT
DTSTART;TZID=UTC:20231221T191500
DTEND;TZID=UTC:20231221T221500
DTSTAMP:20260422T224729
CREATED:20230801T025115Z
LAST-MODIFIED:20230801T025115Z
UID:11459-1703186100-1703196900@melbournelifestyleapartments.com
SUMMARY:Melbourne Renegades v Brisbane Heat
DESCRIPTION:Join us as the Melbourne Renegades take on Brisbane Heat for BBL|13.
URL:https://melbournelifestyleapartments.com/event/melbourne-renegades-v-brisbane-heat/
LOCATION:MARVEL Stadium\, 740 Bourke Street\, Docklands\, Victoria\, 3008\, Australia
CATEGORIES:Sport
ATTACH;FMTTYPE=image/jpeg:https://melbournelifestyleapartments.com/wp-content/uploads/2023/08/renegadesheatpre05012201.jpg
END:VEVENT
BEGIN:VEVENT
DTSTART;TZID=UTC:20231124T160000
DTEND;TZID=UTC:20231124T213000
DTSTAMP:20260422T224729
CREATED:20230801T022911Z
LAST-MODIFIED:20230801T022911Z
UID:11449-1700841600-1700861400@melbournelifestyleapartments.com
SUMMARY:2023 FIM World Supercross Championship (WSX)
DESCRIPTION:The FIM World Supercross Australian Grand Prix will make its triumphant return to Australia for the final round of the 2023 WSX World Championship.  \n\nAfter two highly successful pilot events in 2022 that saw more than 85\,000 fans enjoy world-class supercross action\, SX Global have announced a return to Marvel Stadium for their global event\, the 2023 FIM World Supercross Championship (WSX).  \nThe series finale will take place at Marvel Stadium on November 24th and 25th. \nFor more information on the upcoming WSX 2023 schedule visit www.wsxchampionship.com
URL:https://melbournelifestyleapartments.com/event/2023-fim-world-supercross-championship-wsx/
LOCATION:MARVEL Stadium\, 740 Bourke Street\, Docklands\, Victoria\, 3008\, Australia
CATEGORIES:Sport
ATTACH;FMTTYPE=image/jpeg:https://melbournelifestyleapartments.com/wp-content/uploads/2023/08/World-supercross-championship.jpg
END:VEVENT
BEGIN:VEVENT
DTSTART;TZID=UTC:20231124T160000
DTEND;TZID=UTC:20231124T213000
DTSTAMP:20260422T224729
CREATED:20230801T022911Z
LAST-MODIFIED:20230801T022911Z
UID:11449-1700841600-1700861400@melbournelifestyleapartments.com
SUMMARY:2023 FIM World Supercross Championship (WSX)
DESCRIPTION:The FIM World Supercross Australian Grand Prix will make its triumphant return to Australia for the final round of the 2023 WSX World Championship.  \n\nAfter two highly successful pilot events in 2022 that saw more than 85\,000 fans enjoy world-class supercross action\, SX Global have announced a return to Marvel Stadium for their global event\, the 2023 FIM World Supercross Championship (WSX).  \nThe series finale will take place at Marvel Stadium on November 24th and 25th. \nFor more information on the upcoming WSX 2023 schedule visit www.wsxchampionship.com
URL:https://melbournelifestyleapartments.com/event/2023-fim-world-supercross-championship-wsx/
LOCATION:MARVEL Stadium\, 740 Bourke Street\, Docklands\, Victoria\, 3008\, Australia
CATEGORIES:Sport
ATTACH;FMTTYPE=image/jpeg:https://melbournelifestyleapartments.com/wp-content/uploads/2023/08/World-supercross-championship.jpg
END:VEVENT
BEGIN:VEVENT
DTSTART;TZID=UTC:20230923T140000
DTEND;TZID=UTC:20230923T170000
DTSTAMP:20260422T224729
CREATED:20230801T034926Z
LAST-MODIFIED:20230801T034926Z
UID:11489-1695477600-1695488400@melbournelifestyleapartments.com
SUMMARY:NHL Global Series™
DESCRIPTION:The National Hockey League (NHL) is coming Down Under! \nThe Los Angeles Kings and Arizona Coyotes are set to make history this September as the first National Hockey League (NHL) teams to compete in the Southern Hemisphere when the 2023 NHL Global Series™ comes to Melbourne. \nThe Kings and Coyotes will face off in two exhibition matches at Rod Laver Arena on Saturday 23 September and Sunday 24 September\, in what is a significant moment for both Melbourne and Australia as the first-ever NHL hosts in this part of the world.
URL:https://melbournelifestyleapartments.com/event/nhl-global-series/
LOCATION:Rod Laver Arena\, Olympic Blvd\, Melbourne\, Victoria\, 3001\, Australia
CATEGORIES:Sport
ATTACH;FMTTYPE=image/jpeg:https://melbournelifestyleapartments.com/wp-content/uploads/2023/08/NHL_002_MOPT_1300x730-768x431-1.jpg
END:VEVENT
BEGIN:VEVENT
DTSTART;TZID=UTC:20230923T140000
DTEND;TZID=UTC:20230923T170000
DTSTAMP:20260422T224729
CREATED:20230801T034926Z
LAST-MODIFIED:20230801T034926Z
UID:11489-1695477600-1695488400@melbournelifestyleapartments.com
SUMMARY:NHL Global Series™
DESCRIPTION:The National Hockey League (NHL) is coming Down Under! \nThe Los Angeles Kings and Arizona Coyotes are set to make history this September as the first National Hockey League (NHL) teams to compete in the Southern Hemisphere when the 2023 NHL Global Series™ comes to Melbourne. \nThe Kings and Coyotes will face off in two exhibition matches at Rod Laver Arena on Saturday 23 September and Sunday 24 September\, in what is a significant moment for both Melbourne and Australia as the first-ever NHL hosts in this part of the world.
URL:https://melbournelifestyleapartments.com/event/nhl-global-series/
LOCATION:Rod Laver Arena\, Olympic Blvd\, Melbourne\, Victoria\, 3001\, Australia
CATEGORIES:Sport
ATTACH;FMTTYPE=image/jpeg:https://melbournelifestyleapartments.com/wp-content/uploads/2023/08/NHL_002_MOPT_1300x730-768x431-1.jpg
END:VEVENT
BEGIN:VEVENT
DTSTART;TZID=UTC:20230826T150000
DTEND;TZID=UTC:20230826T170000
DTSTAMP:20260422T224729
CREATED:20230801T060610Z
LAST-MODIFIED:20230801T060610Z
UID:11537-1693062000-1693069200@melbournelifestyleapartments.com
SUMMARY:NRL - Melbourne Storm VS Gold Coast Titans
DESCRIPTION:The 2023 NRL Premiership season continues at AAMI Park as Melbourne Storm host the Gold Coast Titans. \nAfter three seasons defined by fixture disruptions\, normality is set to return to AAMI Park in season 2022/23\, with regular kick-offs and more family-friendly timeslots. \nAnd with plenty of household international names and some of the brightest young talents in the country\, there has never been a better time to take in the atmosphere and experience the thrills of City football live!
URL:https://melbournelifestyleapartments.com/event/nrl-melbourne-storm-vs-gold-coast-titans/
LOCATION:AAMI Park\, Olympic Blvd\, Melbourne\, Victoria\, 3004\, Australia
CATEGORIES:Sport
ATTACH;FMTTYPE=image/jpeg:https://melbournelifestyleapartments.com/wp-content/uploads/2023/08/storm-v-titans.jpg
END:VEVENT
BEGIN:VEVENT
DTSTART;TZID=UTC:20230820T152000
DTEND;TZID=UTC:20230820T175000
DTSTAMP:20260422T224729
CREATED:20230629T095716Z
LAST-MODIFIED:20230629T095716Z
UID:11394-1692544800-1692553800@melbournelifestyleapartments.com
SUMMARY:AFL - Melbourne VS Hawthorn
DESCRIPTION:2023 TOYOTA AFL PREMIERSHIP\nRound 23
URL:https://melbournelifestyleapartments.com/event/afl-melbourne-vs-hawthorn/
LOCATION:Melbourne Cricket Ground\, Brunton Avenue\, Richmond\, Victoria\, 3002\, Australia
CATEGORIES:Sport
ATTACH;FMTTYPE=image/png:https://melbournelifestyleapartments.com/wp-content/uploads/2023/06/38.png
END:VEVENT
BEGIN:VEVENT
DTSTART;TZID=UTC:20230820T131000
DTEND;TZID=UTC:20230820T154000
DTSTAMP:20260422T224729
CREATED:20230629T095604Z
LAST-MODIFIED:20230629T095604Z
UID:11392-1692537000-1692546000@melbournelifestyleapartments.com
SUMMARY:AFL - Western Bulldogs VS West Coast Eagles
DESCRIPTION:2023 TOYOTA AFL PREMIERSHIP\nRound 23
URL:https://melbournelifestyleapartments.com/event/afl-western-bulldogs-vs-west-coast-eagles/
LOCATION:MARVEL Stadium\, 740 Bourke Street\, Docklands\, Victoria\, 3008\, Australia
CATEGORIES:Sport
ATTACH;FMTTYPE=image/png:https://melbournelifestyleapartments.com/wp-content/uploads/2023/06/37.png
END:VEVENT
BEGIN:VEVENT
DTSTART;TZID=UTC:20230819T192500
DTEND;TZID=UTC:20230819T215500
DTSTAMP:20260422T224729
CREATED:20230629T095456Z
LAST-MODIFIED:20230629T095456Z
UID:11390-1692473100-1692482100@melbournelifestyleapartments.com
SUMMARY:AFL - St Kilda VS Geelong Cats
DESCRIPTION:2023 TOYOTA AFL PREMIERSHIP\nRound 23
URL:https://melbournelifestyleapartments.com/event/afl-st-kilda-vs-geelong-cats/
LOCATION:MARVEL Stadium\, 740 Bourke Street\, Docklands\, Victoria\, 3008\, Australia
CATEGORIES:Sport
ATTACH;FMTTYPE=image/png:https://melbournelifestyleapartments.com/wp-content/uploads/2023/06/36.png
END:VEVENT
BEGIN:VEVENT
DTSTART;TZID=UTC:20230818T195000
DTEND;TZID=UTC:20230818T222000
DTSTAMP:20260422T224729
CREATED:20230629T095133Z
LAST-MODIFIED:20230629T095133Z
UID:11380-1692388200-1692397200@melbournelifestyleapartments.com
SUMMARY:AFL - Collingwood VS Brisbane Lions
DESCRIPTION:2023 TOYOTA AFL PREMIERSHIP\nRound 23
URL:https://melbournelifestyleapartments.com/event/afl-collingwood-vs-brisbane-lions/
LOCATION:MARVEL Stadium\, 740 Bourke Street\, Docklands\, Victoria\, 3008\, Australia
CATEGORIES:Sport
ATTACH;FMTTYPE=image/png:https://melbournelifestyleapartments.com/wp-content/uploads/2023/06/34.png
END:VEVENT
BEGIN:VEVENT
DTSTART;TZID=UTC:20230814T160000
DTEND;TZID=UTC:20230814T214500
DTSTAMP:20260422T224729
CREATED:20230801T033157Z
LAST-MODIFIED:20230801T035356Z
UID:11468-1692028800-1692049500@melbournelifestyleapartments.com
SUMMARY:Basketball - Boomers VS World
DESCRIPTION:The Australian Boomers are back and they’re ready to take on the world! \nFrom Giddey to Green\, Mills and Thybulle\, Rod Laver Arena will be booming with Australia’s best basketballers as they prepare for the 2023 FIBA World Cup. \nDon’t miss the chance to catch your Aussie stars in action right here in your own backyard. \nLighting up the court in green and gold\, the team will face off against three nations also vying for the World Cup title in August\, including Brazil and Venezuela who are ranked in the world’s top 20\, and fast-rising world #62 South Sudan. \nGates \n\nGate 3 (via Garden Square)\n\nMonday 14 August \n\nGates Open: 4:00pm\nBrazil vs South Sudan: 5:30pm\nAustralia vs Venezuela: 7:45pm\nEvent Concludes: 9:45pm\n\nWednesday 16 August \n\nGates Open: 4:00pm\nVenezuela vs South Sudan: 5:30pm\nAustralia vs Brazil: 7:45pm\nEvent Concludes: 9:45pm\n\nThursday 17 August \n\nGates Open: 4:00pm\nVenezuela vs Brazil: 5:30pm\nAustralia vs South Sudan: 7:45pm\nEvent Concludes: 9:45pm
URL:https://melbournelifestyleapartments.com/event/basketball-boomers-vs-world/
LOCATION:Rod Laver Arena\, Olympic Blvd\, Melbourne\, Victoria\, 3001\, Australia
CATEGORIES:Sport
ATTACH;FMTTYPE=image/jpeg:https://melbournelifestyleapartments.com/wp-content/uploads/2023/08/1BVW_002_MOPT_1300x730-768x431-1.jpg
END:VEVENT
BEGIN:VEVENT
DTSTART;TZID=UTC:20230814T160000
DTEND;TZID=UTC:20230814T214500
DTSTAMP:20260422T224729
CREATED:20230801T033157Z
LAST-MODIFIED:20230801T035356Z
UID:11468-1692028800-1692049500@melbournelifestyleapartments.com
SUMMARY:Basketball - Boomers VS World
DESCRIPTION:The Australian Boomers are back and they’re ready to take on the world! \nFrom Giddey to Green\, Mills and Thybulle\, Rod Laver Arena will be booming with Australia’s best basketballers as they prepare for the 2023 FIBA World Cup. \nDon’t miss the chance to catch your Aussie stars in action right here in your own backyard. \nLighting up the court in green and gold\, the team will face off against three nations also vying for the World Cup title in August\, including Brazil and Venezuela who are ranked in the world’s top 20\, and fast-rising world #62 South Sudan. \nGates \n\nGate 3 (via Garden Square)\n\nMonday 14 August \n\nGates Open: 4:00pm\nBrazil vs South Sudan: 5:30pm\nAustralia vs Venezuela: 7:45pm\nEvent Concludes: 9:45pm\n\nWednesday 16 August \n\nGates Open: 4:00pm\nVenezuela vs South Sudan: 5:30pm\nAustralia vs Brazil: 7:45pm\nEvent Concludes: 9:45pm\n\nThursday 17 August \n\nGates Open: 4:00pm\nVenezuela vs Brazil: 5:30pm\nAustralia vs South Sudan: 7:45pm\nEvent Concludes: 9:45pm
URL:https://melbournelifestyleapartments.com/event/basketball-boomers-vs-world/
LOCATION:Rod Laver Arena\, Olympic Blvd\, Melbourne\, Victoria\, 3001\, Australia
CATEGORIES:Sport
ATTACH;FMTTYPE=image/jpeg:https://melbournelifestyleapartments.com/wp-content/uploads/2023/08/1BVW_002_MOPT_1300x730-768x431-1.jpg
END:VEVENT
BEGIN:VEVENT
DTSTART;TZID=UTC:20230814T160000
DTEND;TZID=UTC:20230814T214500
DTSTAMP:20260422T224729
CREATED:20230801T033157Z
LAST-MODIFIED:20230801T035356Z
UID:11468-1692028800-1692049500@melbournelifestyleapartments.com
SUMMARY:Basketball - Boomers VS World
DESCRIPTION:The Australian Boomers are back and they’re ready to take on the world! \nFrom Giddey to Green\, Mills and Thybulle\, Rod Laver Arena will be booming with Australia’s best basketballers as they prepare for the 2023 FIBA World Cup. \nDon’t miss the chance to catch your Aussie stars in action right here in your own backyard. \nLighting up the court in green and gold\, the team will face off against three nations also vying for the World Cup title in August\, including Brazil and Venezuela who are ranked in the world’s top 20\, and fast-rising world #62 South Sudan. \nGates \n\nGate 3 (via Garden Square)\n\nMonday 14 August \n\nGates Open: 4:00pm\nBrazil vs South Sudan: 5:30pm\nAustralia vs Venezuela: 7:45pm\nEvent Concludes: 9:45pm\n\nWednesday 16 August \n\nGates Open: 4:00pm\nVenezuela vs South Sudan: 5:30pm\nAustralia vs Brazil: 7:45pm\nEvent Concludes: 9:45pm\n\nThursday 17 August \n\nGates Open: 4:00pm\nVenezuela vs Brazil: 5:30pm\nAustralia vs South Sudan: 7:45pm\nEvent Concludes: 9:45pm
URL:https://melbournelifestyleapartments.com/event/basketball-boomers-vs-world/
LOCATION:Rod Laver Arena\, Olympic Blvd\, Melbourne\, Victoria\, 3001\, Australia
CATEGORIES:Sport
ATTACH;FMTTYPE=image/jpeg:https://melbournelifestyleapartments.com/wp-content/uploads/2023/08/1BVW_002_MOPT_1300x730-768x431-1.jpg
END:VEVENT
BEGIN:VEVENT
DTSTART;TZID=UTC:20230813T152000
DTEND;TZID=UTC:20230813T175000
DTSTAMP:20260422T224729
CREATED:20230629T083328Z
LAST-MODIFIED:20230629T083328Z
UID:11377-1691940000-1691949000@melbournelifestyleapartments.com
SUMMARY:AFL - St Kilda VS Richmond
DESCRIPTION:2023 TOYOTA AFL PREMIERSHIP\nRound 22
URL:https://melbournelifestyleapartments.com/event/afl-st-kilda-vs-richmond/
LOCATION:MARVEL Stadium\, 740 Bourke Street\, Docklands\, Victoria\, 3008\, Australia
CATEGORIES:Sport
ATTACH;FMTTYPE=image/png:https://melbournelifestyleapartments.com/wp-content/uploads/2023/06/33.png
END:VEVENT
BEGIN:VEVENT
DTSTART;TZID=UTC:20230813T140000
DTEND;TZID=UTC:20230813T160000
DTSTAMP:20260422T224729
CREATED:20230801T060424Z
LAST-MODIFIED:20230801T060424Z
UID:11533-1691935200-1691942400@melbournelifestyleapartments.com
SUMMARY:NRL - Melbourne Storm VS Canberra Raiders
DESCRIPTION:After three seasons defined by fixture disruptions\, normality is set to return to AAMI Park in season 2022/23\, with regular kick-offs and more family-friendly timeslots. \nAnd with plenty of household international names and some of the brightest young talents in the country\, there has never been a better time to take in the atmosphere and experience the thrills of City football live!
URL:https://melbournelifestyleapartments.com/event/nrl-melbourne-storm-vs-canberra-raiders/
LOCATION:AAMI Park\, Olympic Blvd\, Melbourne\, Victoria\, 3004\, Australia
CATEGORIES:Sport
ATTACH;FMTTYPE=image/jpeg:https://melbournelifestyleapartments.com/wp-content/uploads/2023/08/storm-v-raiders.jpg
END:VEVENT
BEGIN:VEVENT
DTSTART;TZID=UTC:20230812T192500
DTEND;TZID=UTC:20230812T215500
DTSTAMP:20260422T224729
CREATED:20230629T083220Z
LAST-MODIFIED:20230629T083220Z
UID:11375-1691868300-1691877300@melbournelifestyleapartments.com
SUMMARY:AFL - Carlton VS Melbourne
DESCRIPTION:2023 TOYOTA AFL PREMIERSHIP\nRound 22
URL:https://melbournelifestyleapartments.com/event/afl-carlton-vs-melbourne/
LOCATION:Melbourne Cricket Ground\, Brunton Avenue\, Richmond\, Victoria\, 3002\, Australia
CATEGORIES:Sport
ATTACH;FMTTYPE=image/png:https://melbournelifestyleapartments.com/wp-content/uploads/2023/06/32.png
END:VEVENT
BEGIN:VEVENT
DTSTART;TZID=UTC:20230812T134500
DTEND;TZID=UTC:20230812T161500
DTSTAMP:20260422T224729
CREATED:20230629T083115Z
LAST-MODIFIED:20230629T083115Z
UID:11373-1691847900-1691856900@melbournelifestyleapartments.com
SUMMARY:AFL - North Melbourne VS Essendon
DESCRIPTION:2023 TOYOTA AFL PREMIERSHIP\nRound 22
URL:https://melbournelifestyleapartments.com/event/afl-north-melbourne-vs-essendon/
LOCATION:MARVEL Stadium\, 740 Bourke Street\, Docklands\, Victoria\, 3008\, Australia
CATEGORIES:Sport
ATTACH;FMTTYPE=image/png:https://melbournelifestyleapartments.com/wp-content/uploads/2023/06/31.png
END:VEVENT
BEGIN:VEVENT
DTSTART;TZID=UTC:20230811T195000
DTEND;TZID=UTC:20230811T222000
DTSTAMP:20260422T224729
CREATED:20230629T082957Z
LAST-MODIFIED:20230629T082957Z
UID:11367-1691783400-1691792400@melbournelifestyleapartments.com
SUMMARY:AFL - Collingwood VS Geelong Cats
DESCRIPTION:2023 TOYOTA AFL PREMIERSHIP\nRound 22
URL:https://melbournelifestyleapartments.com/event/afl-collingwood-vs-geelong-cats/
LOCATION:Melbourne Cricket Ground\, Brunton Avenue\, Richmond\, Victoria\, 3002\, Australia
CATEGORIES:Sport
ATTACH;FMTTYPE=image/png:https://melbournelifestyleapartments.com/wp-content/uploads/2023/06/30.png
END:VEVENT
BEGIN:VEVENT
DTSTART;TZID=UTC:20230808T180000
DTEND;TZID=UTC:20230808T200000
DTSTAMP:20260422T224729
CREATED:20230801T062409Z
LAST-MODIFIED:20230804T092037Z
UID:11546-1691517600-1691524800@melbournelifestyleapartments.com
SUMMARY:Fifa World Cup - Columbia VS Jamaica
DESCRIPTION:
URL:https://melbournelifestyleapartments.com/event/fifa-world-cup-2/
LOCATION:AAMI Park\, Olympic Blvd\, Melbourne\, Victoria\, 3004\, Australia
CATEGORIES:Sport
ATTACH;FMTTYPE=image/jpeg:https://melbournelifestyleapartments.com/wp-content/uploads/2023/08/FWWC23.jpg
END:VEVENT
BEGIN:VEVENT
DTSTART;TZID=UTC:20230806T190000
DTEND;TZID=UTC:20230806T210000
DTSTAMP:20260422T224729
CREATED:20230801T062250Z
LAST-MODIFIED:20230804T091919Z
UID:11544-1691348400-1691355600@melbournelifestyleapartments.com
SUMMARY:Fifa World Cup - Sweden VS USA
DESCRIPTION:
URL:https://melbournelifestyleapartments.com/event/fifa-world-cup/
LOCATION:AAMI Park\, Olympic Blvd\, Melbourne\, Victoria\, 3004\, Australia
CATEGORIES:Sport
ATTACH;FMTTYPE=image/jpeg:https://melbournelifestyleapartments.com/wp-content/uploads/2023/08/FWWC23.jpg
END:VEVENT
END:VCALENDAR