BEGIN:VCALENDAR
VERSION:2.0
PRODID:-//Melbourne Lifestyle Apartments - ECPv6.15.18//NONSGML v1.0//EN
CALSCALE:GREGORIAN
METHOD:PUBLISH
X-ORIGINAL-URL:https://melbournelifestyleapartments.com
X-WR-CALDESC:Events for Melbourne Lifestyle Apartments
REFRESH-INTERVAL;VALUE=DURATION:PT1H
X-Robots-Tag:noindex
X-PUBLISHED-TTL:PT1H
BEGIN:VTIMEZONE
TZID:UTC
BEGIN:STANDARD
TZOFFSETFROM:+0000
TZOFFSETTO:+0000
TZNAME:UTC
DTSTART:20230101T000000
END:STANDARD
END:VTIMEZONE
BEGIN:VEVENT
DTSTART;TZID=UTC:20240421T160000
DTEND;TZID=UTC:20240421T180000
DTSTAMP:20260422T175627
CREATED:20240116T040725Z
LAST-MODIFIED:20240116T040725Z
UID:12269-1713715200-1713722400@melbournelifestyleapartments.com
SUMMARY:North Melbourne v Hawthorn
DESCRIPTION:
URL:https://melbournelifestyleapartments.com/event/north-melbourne-v-hawthorn/
LOCATION:MARVEL Stadium\, 740 Bourke Street\, Docklands\, Victoria\, 3008\, Australia
CATEGORIES:Sport
ATTACH;FMTTYPE=image/png:https://melbournelifestyleapartments.com/wp-content/uploads/2024/01/9.png
END:VEVENT
BEGIN:VEVENT
DTSTART;TZID=UTC:20240420T163500
DTEND;TZID=UTC:20240420T183500
DTSTAMP:20260422T175627
CREATED:20240116T040550Z
LAST-MODIFIED:20240116T040550Z
UID:12260-1713630900-1713638100@melbournelifestyleapartments.com
SUMMARY:Carlton v GWS GIANTS
DESCRIPTION:
URL:https://melbournelifestyleapartments.com/event/carlton-v-gws-giants/
LOCATION:MARVEL Stadium\, 740 Bourke Street\, Docklands\, Victoria\, 3008\, Australia
CATEGORIES:Sport
ATTACH;FMTTYPE=image/png:https://melbournelifestyleapartments.com/wp-content/uploads/2024/01/8.png
END:VEVENT
BEGIN:VEVENT
DTSTART;TZID=UTC:20240420T134500
DTEND;TZID=UTC:20240420T154500
DTSTAMP:20260422T175627
CREATED:20240118T054302Z
LAST-MODIFIED:20240118T054302Z
UID:12424-1713620700-1713627900@melbournelifestyleapartments.com
SUMMARY:Collingwood v Port Adelaide
DESCRIPTION:
URL:https://melbournelifestyleapartments.com/event/collingwood-v-port-adelaide/
LOCATION:Melbourne Cricket Ground\, Brunton Avenue\, Richmond\, Victoria\, 3002\, Australia
CATEGORIES:Sport
ATTACH;FMTTYPE=image/png:https://melbournelifestyleapartments.com/wp-content/uploads/2024/01/11-1.png
END:VEVENT
BEGIN:VEVENT
DTSTART;TZID=UTC:20240418T193000
DTEND;TZID=UTC:20240418T213000
DTSTAMP:20260422T175628
CREATED:20240116T040317Z
LAST-MODIFIED:20240116T040317Z
UID:12258-1713468600-1713475800@melbournelifestyleapartments.com
SUMMARY:St Kilda v Western Bulldogs
DESCRIPTION:
URL:https://melbournelifestyleapartments.com/event/st-kilda-v-western-bulldogs/
LOCATION:MARVEL Stadium\, 740 Bourke Street\, Docklands\, Victoria\, 3008\, Australia
CATEGORIES:Sport
ATTACH;FMTTYPE=image/png:https://melbournelifestyleapartments.com/wp-content/uploads/2024/01/7.png
END:VEVENT
BEGIN:VEVENT
DTSTART;TZID=UTC:20240413T134500
DTEND;TZID=UTC:20240413T154500
DTSTAMP:20260422T175628
CREATED:20240116T040023Z
LAST-MODIFIED:20240116T040023Z
UID:12256-1713015900-1713023100@melbournelifestyleapartments.com
SUMMARY:Carlton v Adelaide Crows
DESCRIPTION:
URL:https://melbournelifestyleapartments.com/event/carlton-v-adelaide-crows/
LOCATION:MARVEL Stadium\, 740 Bourke Street\, Docklands\, Victoria\, 3008\, Australia
CATEGORIES:Sport
ATTACH;FMTTYPE=image/png:https://melbournelifestyleapartments.com/wp-content/uploads/2024/01/6.png
END:VEVENT
BEGIN:VEVENT
DTSTART;TZID=UTC:20240412T194000
DTEND;TZID=UTC:20240412T214000
DTSTAMP:20260422T175628
CREATED:20240116T035905Z
LAST-MODIFIED:20240116T035905Z
UID:12254-1712950800-1712958000@melbournelifestyleapartments.com
SUMMARY:Western Bulldogs v Essendon
DESCRIPTION:
URL:https://melbournelifestyleapartments.com/event/western-bulldogs-v-essendon/
LOCATION:MARVEL Stadium\, 740 Bourke Street\, Docklands\, Victoria\, 3008\, Australia
CATEGORIES:Sport
ATTACH;FMTTYPE=image/png:https://melbournelifestyleapartments.com/wp-content/uploads/2024/01/5.png
END:VEVENT
BEGIN:VEVENT
DTSTART;TZID=UTC:20240411T193000
DTEND;TZID=UTC:20240411T213000
DTSTAMP:20260422T175628
CREATED:20240118T054139Z
LAST-MODIFIED:20240118T054139Z
UID:12422-1712863800-1712871000@melbournelifestyleapartments.com
SUMMARY:Melbourne v Brisbane Lions
DESCRIPTION:
URL:https://melbournelifestyleapartments.com/event/melbourne-v-brisbane-lions/
LOCATION:Melbourne Cricket Ground\, Brunton Avenue\, Richmond\, Victoria\, 3002\, Australia
CATEGORIES:Sport
ATTACH;FMTTYPE=image/png:https://melbournelifestyleapartments.com/wp-content/uploads/2024/01/10-1.png
END:VEVENT
BEGIN:VEVENT
DTSTART;TZID=UTC:20240401T152000
DTEND;TZID=UTC:20240401T172000
DTSTAMP:20260422T175628
CREATED:20240118T053939Z
LAST-MODIFIED:20240118T053939Z
UID:12420-1711984800-1711992000@melbournelifestyleapartments.com
SUMMARY:Hawthorn v Geelong Cats
DESCRIPTION:
URL:https://melbournelifestyleapartments.com/event/hawthorn-v-geelong-cats/
LOCATION:Melbourne Cricket Ground\, Brunton Avenue\, Richmond\, Victoria\, 3002\, Australia
CATEGORIES:Sport
ATTACH;FMTTYPE=image/png:https://melbournelifestyleapartments.com/wp-content/uploads/2024/01/9-1.png
END:VEVENT
BEGIN:VEVENT
DTSTART;TZID=UTC:20240331T160000
DTEND;TZID=UTC:20240331T180000
DTSTAMP:20260422T175628
CREATED:20240118T053828Z
LAST-MODIFIED:20240118T053828Z
UID:12418-1711900800-1711908000@melbournelifestyleapartments.com
SUMMARY:Richmond v Sydney Swans
DESCRIPTION:
URL:https://melbournelifestyleapartments.com/event/richmond-v-sydney-swans/
LOCATION:Melbourne Cricket Ground\, Brunton Avenue\, Richmond\, Victoria\, 3002\, Australia
CATEGORIES:Sport
ATTACH;FMTTYPE=image/png:https://melbournelifestyleapartments.com/wp-content/uploads/2024/01/8-1.png
END:VEVENT
BEGIN:VEVENT
DTSTART;TZID=UTC:20240331T130000
DTEND;TZID=UTC:20240331T150000
DTSTAMP:20260422T175628
CREATED:20240116T035744Z
LAST-MODIFIED:20240116T035744Z
UID:12252-1711890000-1711897200@melbournelifestyleapartments.com
SUMMARY:Western Bulldogs v West Coast Eagles
DESCRIPTION:
URL:https://melbournelifestyleapartments.com/event/western-bulldogs-v-west-coast-eagles/
LOCATION:MARVEL Stadium\, 740 Bourke Street\, Docklands\, Victoria\, 3008\, Australia
CATEGORIES:Sport
ATTACH;FMTTYPE=image/png:https://melbournelifestyleapartments.com/wp-content/uploads/2024/01/4.png
END:VEVENT
BEGIN:VEVENT
DTSTART;TZID=UTC:20240330T162000
DTEND;TZID=UTC:20240330T182000
DTSTAMP:20260422T175628
CREATED:20240116T035622Z
LAST-MODIFIED:20240116T035622Z
UID:12250-1711815600-1711822800@melbournelifestyleapartments.com
SUMMARY:Essendon v St Kilda
DESCRIPTION:
URL:https://melbournelifestyleapartments.com/event/essendon-v-st-kilda/
LOCATION:MARVEL Stadium\, 740 Bourke Street\, Docklands\, Victoria\, 3008\, Australia
CATEGORIES:Sport
ATTACH;FMTTYPE=image/png:https://melbournelifestyleapartments.com/wp-content/uploads/2024/01/3.png
END:VEVENT
BEGIN:VEVENT
DTSTART;TZID=UTC:20240329T162000
DTEND;TZID=UTC:20240329T182000
DTSTAMP:20260422T175628
CREATED:20240116T035522Z
LAST-MODIFIED:20240116T035522Z
UID:12248-1711729200-1711736400@melbournelifestyleapartments.com
SUMMARY:North Melbourne v Carlton
DESCRIPTION:
URL:https://melbournelifestyleapartments.com/event/north-melbourne-v-carlton/
LOCATION:MARVEL Stadium\, 740 Bourke Street\, Docklands\, Victoria\, 3008\, Australia
CATEGORIES:Sport
ATTACH;FMTTYPE=image/png:https://melbournelifestyleapartments.com/wp-content/uploads/2024/01/2.png
END:VEVENT
BEGIN:VEVENT
DTSTART;TZID=UTC:20240324T160000
DTEND;TZID=UTC:20240324T180000
DTSTAMP:20260422T175628
CREATED:20240118T053716Z
LAST-MODIFIED:20240118T053716Z
UID:12416-1711296000-1711303200@melbournelifestyleapartments.com
SUMMARY:Richmond v Port Adelaide
DESCRIPTION:
URL:https://melbournelifestyleapartments.com/event/richmond-v-port-adelaide/
LOCATION:Melbourne Cricket Ground\, Brunton Avenue\, Richmond\, Victoria\, 3002\, Australia
CATEGORIES:Sport
ATTACH;FMTTYPE=image/png:https://melbournelifestyleapartments.com/wp-content/uploads/2024/01/7-1.png
END:VEVENT
BEGIN:VEVENT
DTSTART;TZID=UTC:20240323T163500
DTEND;TZID=UTC:20240323T183500
DTSTAMP:20260422T175628
CREATED:20240118T053621Z
LAST-MODIFIED:20240118T053621Z
UID:12414-1711211700-1711218900@melbournelifestyleapartments.com
SUMMARY:Hawthorn v Melbourne
DESCRIPTION:
URL:https://melbournelifestyleapartments.com/event/hawthorn-v-melbourne/
LOCATION:Melbourne Cricket Ground\, Brunton Avenue\, Richmond\, Victoria\, 3002\, Australia
CATEGORIES:Sport
ATTACH;FMTTYPE=image/png:https://melbournelifestyleapartments.com/wp-content/uploads/2024/01/6-1.png
END:VEVENT
BEGIN:VEVENT
DTSTART;TZID=UTC:20240323T134500
DTEND;TZID=UTC:20240323T154500
DTSTAMP:20260422T175628
CREATED:20240116T035351Z
LAST-MODIFIED:20240116T035351Z
UID:12239-1711201500-1711208700@melbournelifestyleapartments.com
SUMMARY:North Melbourne v Fremantle
DESCRIPTION:
URL:https://melbournelifestyleapartments.com/event/north-melbourne-v-fremantle/
LOCATION:MARVEL Stadium\, 740 Bourke Street\, Docklands\, Victoria\, 3008\, Australia
CATEGORIES:Sport
ATTACH;FMTTYPE=image/png:https://melbournelifestyleapartments.com/wp-content/uploads/2024/01/1.png
END:VEVENT
BEGIN:VEVENT
DTSTART;TZID=UTC:20240321T193000
DTEND;TZID=UTC:20240321T213000
DTSTAMP:20260422T175628
CREATED:20240118T053505Z
LAST-MODIFIED:20240118T053505Z
UID:12412-1711049400-1711056600@melbournelifestyleapartments.com
SUMMARY:St Kilda v Collingwood
DESCRIPTION:
URL:https://melbournelifestyleapartments.com/event/st-kilda-v-collingwood/
LOCATION:Melbourne Cricket Ground\, Brunton Avenue\, Richmond\, Victoria\, 3002\, Australia
CATEGORIES:Sport
ATTACH;FMTTYPE=image/png:https://melbournelifestyleapartments.com/wp-content/uploads/2024/01/5-1.png
END:VEVENT
BEGIN:VEVENT
DTSTART;TZID=UTC:20240317T130000
DTEND;TZID=UTC:20240317T150000
DTSTAMP:20260422T175628
CREATED:20240118T053402Z
LAST-MODIFIED:20240118T053402Z
UID:12410-1710680400-1710687600@melbournelifestyleapartments.com
SUMMARY:Melbourne v Western Bulldogs
DESCRIPTION:
URL:https://melbournelifestyleapartments.com/event/melbourne-v-western-bulldogs/
LOCATION:Melbourne Cricket Ground\, Brunton Avenue\, Richmond\, Victoria\, 3002\, Australia
CATEGORIES:Sport
ATTACH;FMTTYPE=image/png:https://melbournelifestyleapartments.com/wp-content/uploads/2024/01/4-1.png
END:VEVENT
BEGIN:VEVENT
DTSTART;TZID=UTC:20240316T134500
DTEND;TZID=UTC:20240316T154500
DTSTAMP:20260422T175628
CREATED:20240118T053253Z
LAST-MODIFIED:20240118T053253Z
UID:12408-1710596700-1710603900@melbournelifestyleapartments.com
SUMMARY:Essendon v Hawthorn
DESCRIPTION:
URL:https://melbournelifestyleapartments.com/event/essendon-v-hawthorn/
LOCATION:Melbourne Cricket Ground\, Brunton Avenue\, Richmond\, Victoria\, 3002\, Australia
CATEGORIES:Sport
ATTACH;FMTTYPE=image/png:https://melbournelifestyleapartments.com/wp-content/uploads/2024/01/3-2.png
END:VEVENT
BEGIN:VEVENT
DTSTART;TZID=UTC:20240315T194000
DTEND;TZID=UTC:20240315T214000
DTSTAMP:20260422T175628
CREATED:20240118T053137Z
LAST-MODIFIED:20240118T053137Z
UID:12406-1710531600-1710538800@melbournelifestyleapartments.com
SUMMARY:Collingwood v Sydney Swans
DESCRIPTION:
URL:https://melbournelifestyleapartments.com/event/collingwood-v-sydney-swans/
LOCATION:Melbourne Cricket Ground\, Brunton Avenue\, Richmond\, Victoria\, 3002\, Australia
CATEGORIES:Sport
ATTACH;FMTTYPE=image/png:https://melbournelifestyleapartments.com/wp-content/uploads/2024/01/2-2.png
END:VEVENT
BEGIN:VEVENT
DTSTART;TZID=UTC:20240314T193000
DTEND;TZID=UTC:20240314T213000
DTSTAMP:20260422T175628
CREATED:20240118T053005Z
LAST-MODIFIED:20240118T053005Z
UID:12375-1710444600-1710451800@melbournelifestyleapartments.com
SUMMARY:Carlton v Richmond
DESCRIPTION:
URL:https://melbournelifestyleapartments.com/event/carlton-v-richmond/
LOCATION:Melbourne Cricket Ground\, Brunton Avenue\, Richmond\, Victoria\, 3002\, Australia
CATEGORIES:Sport
ATTACH;FMTTYPE=image/png:https://melbournelifestyleapartments.com/wp-content/uploads/2024/01/1-1.png
END:VEVENT
BEGIN:VEVENT
DTSTART;TZID=UTC:20240202T143000
DTEND;TZID=UTC:20240202T170000
DTSTAMP:20260422T175628
CREATED:20240118T051754Z
LAST-MODIFIED:20240118T051754Z
UID:12373-1706884200-1706893200@melbournelifestyleapartments.com
SUMMARY:ODI - Australia v West Indies
DESCRIPTION:Be at the MCG for the first match of the Dettol ODI Series between Australia and the West Indies.\nPre-sale tickets commence on Wednesday May 17 for members of the Australian Cricket Family\, with general public tickets available from June 6. Tickets are available to purchase via Ticketek. \nAdditional match information will be available here in due course. \nBe at the MCG for Day 3 of the Boxing Day Test between Australia and Pakistan.\nPre-sale tickets commence on Wednesday May 17 for members of the Australian Cricket Family\, with general public tickets available from June 6.\nAdditional match information will be available here in due course.
URL:https://melbournelifestyleapartments.com/event/odi-australia-v-west-indies/
LOCATION:Melbourne Cricket Ground\, Brunton Avenue\, Richmond\, Victoria\, 3002\, Australia
CATEGORIES:Sport
ATTACH;FMTTYPE=image/png:https://melbournelifestyleapartments.com/wp-content/uploads/2024/01/2024-Cricket.png
END:VEVENT
BEGIN:VEVENT
DTSTART;VALUE=DATE:20240108
DTEND;VALUE=DATE:20240109
DTSTAMP:20260422T175628
CREATED:20240116T045212Z
LAST-MODIFIED:20240116T045719Z
UID:12316-1704672000-1704758399@melbournelifestyleapartments.com
SUMMARY:AUSTRALIAN OPEN 2024
DESCRIPTION:Get set for the epic return of the Australian Open in January 2024! \nSo many stories have been forged at Melbourne Park – from dramatic wins by next-gen superstars to thrilling victories by history-making champions. \nThis year\, you can kick off the summer with AO Opening Week. Feel every serve\, every rally and every moment as players gear up for the Grand Slam that hits different. \nAO24 promises to be bigger and better than ever!
URL:https://melbournelifestyleapartments.com/event/australian-open-2024/
LOCATION:Rod Laver Arena\, Olympic Blvd\, Melbourne\, Victoria\, 3001\, Australia
CATEGORIES:Sport
ATTACH;FMTTYPE=image/jpeg:https://melbournelifestyleapartments.com/wp-content/uploads/2024/01/AO24-23-167-1300-x-730px-72-768x431-1.jpg
END:VEVENT
BEGIN:VEVENT
DTSTART;VALUE=DATE:20240108
DTEND;VALUE=DATE:20240109
DTSTAMP:20260422T175628
CREATED:20240116T045212Z
LAST-MODIFIED:20240116T045719Z
UID:12316-1704672000-1704758399@melbournelifestyleapartments.com
SUMMARY:AUSTRALIAN OPEN 2024
DESCRIPTION:Get set for the epic return of the Australian Open in January 2024! \nSo many stories have been forged at Melbourne Park – from dramatic wins by next-gen superstars to thrilling victories by history-making champions. \nThis year\, you can kick off the summer with AO Opening Week. Feel every serve\, every rally and every moment as players gear up for the Grand Slam that hits different. \nAO24 promises to be bigger and better than ever!
URL:https://melbournelifestyleapartments.com/event/australian-open-2024/
LOCATION:Rod Laver Arena\, Olympic Blvd\, Melbourne\, Victoria\, 3001\, Australia
CATEGORIES:Sport
ATTACH;FMTTYPE=image/jpeg:https://melbournelifestyleapartments.com/wp-content/uploads/2024/01/AO24-23-167-1300-x-730px-72-768x431-1.jpg
END:VEVENT
BEGIN:VEVENT
DTSTART;VALUE=DATE:20240108
DTEND;VALUE=DATE:20240109
DTSTAMP:20260422T175628
CREATED:20240116T045212Z
LAST-MODIFIED:20240116T045719Z
UID:12316-1704672000-1704758399@melbournelifestyleapartments.com
SUMMARY:AUSTRALIAN OPEN 2024
DESCRIPTION:Get set for the epic return of the Australian Open in January 2024! \nSo many stories have been forged at Melbourne Park – from dramatic wins by next-gen superstars to thrilling victories by history-making champions. \nThis year\, you can kick off the summer with AO Opening Week. Feel every serve\, every rally and every moment as players gear up for the Grand Slam that hits different. \nAO24 promises to be bigger and better than ever!
URL:https://melbournelifestyleapartments.com/event/australian-open-2024/
LOCATION:Rod Laver Arena\, Olympic Blvd\, Melbourne\, Victoria\, 3001\, Australia
CATEGORIES:Sport
ATTACH;FMTTYPE=image/jpeg:https://melbournelifestyleapartments.com/wp-content/uploads/2024/01/AO24-23-167-1300-x-730px-72-768x431-1.jpg
END:VEVENT
BEGIN:VEVENT
DTSTART;VALUE=DATE:20240108
DTEND;VALUE=DATE:20240109
DTSTAMP:20260422T175628
CREATED:20240116T045212Z
LAST-MODIFIED:20240116T045719Z
UID:12316-1704672000-1704758399@melbournelifestyleapartments.com
SUMMARY:AUSTRALIAN OPEN 2024
DESCRIPTION:Get set for the epic return of the Australian Open in January 2024! \nSo many stories have been forged at Melbourne Park – from dramatic wins by next-gen superstars to thrilling victories by history-making champions. \nThis year\, you can kick off the summer with AO Opening Week. Feel every serve\, every rally and every moment as players gear up for the Grand Slam that hits different. \nAO24 promises to be bigger and better than ever!
URL:https://melbournelifestyleapartments.com/event/australian-open-2024/
LOCATION:Rod Laver Arena\, Olympic Blvd\, Melbourne\, Victoria\, 3001\, Australia
CATEGORIES:Sport
ATTACH;FMTTYPE=image/jpeg:https://melbournelifestyleapartments.com/wp-content/uploads/2024/01/AO24-23-167-1300-x-730px-72-768x431-1.jpg
END:VEVENT
BEGIN:VEVENT
DTSTART;VALUE=DATE:20240108
DTEND;VALUE=DATE:20240109
DTSTAMP:20260422T175628
CREATED:20240116T045212Z
LAST-MODIFIED:20240116T045719Z
UID:12316-1704672000-1704758399@melbournelifestyleapartments.com
SUMMARY:AUSTRALIAN OPEN 2024
DESCRIPTION:Get set for the epic return of the Australian Open in January 2024! \nSo many stories have been forged at Melbourne Park – from dramatic wins by next-gen superstars to thrilling victories by history-making champions. \nThis year\, you can kick off the summer with AO Opening Week. Feel every serve\, every rally and every moment as players gear up for the Grand Slam that hits different. \nAO24 promises to be bigger and better than ever!
URL:https://melbournelifestyleapartments.com/event/australian-open-2024/
LOCATION:Rod Laver Arena\, Olympic Blvd\, Melbourne\, Victoria\, 3001\, Australia
CATEGORIES:Sport
ATTACH;FMTTYPE=image/jpeg:https://melbournelifestyleapartments.com/wp-content/uploads/2024/01/AO24-23-167-1300-x-730px-72-768x431-1.jpg
END:VEVENT
BEGIN:VEVENT
DTSTART;VALUE=DATE:20240108
DTEND;VALUE=DATE:20240109
DTSTAMP:20260422T175628
CREATED:20240116T045212Z
LAST-MODIFIED:20240116T045719Z
UID:12316-1704672000-1704758399@melbournelifestyleapartments.com
SUMMARY:AUSTRALIAN OPEN 2024
DESCRIPTION:Get set for the epic return of the Australian Open in January 2024! \nSo many stories have been forged at Melbourne Park – from dramatic wins by next-gen superstars to thrilling victories by history-making champions. \nThis year\, you can kick off the summer with AO Opening Week. Feel every serve\, every rally and every moment as players gear up for the Grand Slam that hits different. \nAO24 promises to be bigger and better than ever!
URL:https://melbournelifestyleapartments.com/event/australian-open-2024/
LOCATION:Rod Laver Arena\, Olympic Blvd\, Melbourne\, Victoria\, 3001\, Australia
CATEGORIES:Sport
ATTACH;FMTTYPE=image/jpeg:https://melbournelifestyleapartments.com/wp-content/uploads/2024/01/AO24-23-167-1300-x-730px-72-768x431-1.jpg
END:VEVENT
BEGIN:VEVENT
DTSTART;VALUE=DATE:20240108
DTEND;VALUE=DATE:20240109
DTSTAMP:20260422T175628
CREATED:20240116T045212Z
LAST-MODIFIED:20240116T045719Z
UID:12316-1704672000-1704758399@melbournelifestyleapartments.com
SUMMARY:AUSTRALIAN OPEN 2024
DESCRIPTION:Get set for the epic return of the Australian Open in January 2024! \nSo many stories have been forged at Melbourne Park – from dramatic wins by next-gen superstars to thrilling victories by history-making champions. \nThis year\, you can kick off the summer with AO Opening Week. Feel every serve\, every rally and every moment as players gear up for the Grand Slam that hits different. \nAO24 promises to be bigger and better than ever!
URL:https://melbournelifestyleapartments.com/event/australian-open-2024/
LOCATION:Rod Laver Arena\, Olympic Blvd\, Melbourne\, Victoria\, 3001\, Australia
CATEGORIES:Sport
ATTACH;FMTTYPE=image/jpeg:https://melbournelifestyleapartments.com/wp-content/uploads/2024/01/AO24-23-167-1300-x-730px-72-768x431-1.jpg
END:VEVENT
BEGIN:VEVENT
DTSTART;VALUE=DATE:20240108
DTEND;VALUE=DATE:20240109
DTSTAMP:20260422T175628
CREATED:20240116T045212Z
LAST-MODIFIED:20240116T045719Z
UID:12316-1704672000-1704758399@melbournelifestyleapartments.com
SUMMARY:AUSTRALIAN OPEN 2024
DESCRIPTION:Get set for the epic return of the Australian Open in January 2024! \nSo many stories have been forged at Melbourne Park – from dramatic wins by next-gen superstars to thrilling victories by history-making champions. \nThis year\, you can kick off the summer with AO Opening Week. Feel every serve\, every rally and every moment as players gear up for the Grand Slam that hits different. \nAO24 promises to be bigger and better than ever!
URL:https://melbournelifestyleapartments.com/event/australian-open-2024/
LOCATION:Rod Laver Arena\, Olympic Blvd\, Melbourne\, Victoria\, 3001\, Australia
CATEGORIES:Sport
ATTACH;FMTTYPE=image/jpeg:https://melbournelifestyleapartments.com/wp-content/uploads/2024/01/AO24-23-167-1300-x-730px-72-768x431-1.jpg
END:VEVENT
BEGIN:VEVENT
DTSTART;VALUE=DATE:20240108
DTEND;VALUE=DATE:20240109
DTSTAMP:20260422T175628
CREATED:20240116T045212Z
LAST-MODIFIED:20240116T045719Z
UID:12316-1704672000-1704758399@melbournelifestyleapartments.com
SUMMARY:AUSTRALIAN OPEN 2024
DESCRIPTION:Get set for the epic return of the Australian Open in January 2024! \nSo many stories have been forged at Melbourne Park – from dramatic wins by next-gen superstars to thrilling victories by history-making champions. \nThis year\, you can kick off the summer with AO Opening Week. Feel every serve\, every rally and every moment as players gear up for the Grand Slam that hits different. \nAO24 promises to be bigger and better than ever!
URL:https://melbournelifestyleapartments.com/event/australian-open-2024/
LOCATION:Rod Laver Arena\, Olympic Blvd\, Melbourne\, Victoria\, 3001\, Australia
CATEGORIES:Sport
ATTACH;FMTTYPE=image/jpeg:https://melbournelifestyleapartments.com/wp-content/uploads/2024/01/AO24-23-167-1300-x-730px-72-768x431-1.jpg
END:VEVENT
END:VCALENDAR