BEGIN:VCALENDAR
VERSION:2.0
PRODID:-//Melbourne Lifestyle Apartments - ECPv6.15.18//NONSGML v1.0//EN
CALSCALE:GREGORIAN
METHOD:PUBLISH
X-ORIGINAL-URL:https://melbournelifestyleapartments.com
X-WR-CALDESC:Events for Melbourne Lifestyle Apartments
REFRESH-INTERVAL;VALUE=DURATION:PT1H
X-Robots-Tag:noindex
X-PUBLISHED-TTL:PT1H
BEGIN:VTIMEZONE
TZID:UTC
BEGIN:STANDARD
TZOFFSETFROM:+0000
TZOFFSETTO:+0000
TZNAME:UTC
DTSTART:20220101T000000
END:STANDARD
END:VTIMEZONE
BEGIN:VEVENT
DTSTART;TZID=UTC:20230730T152000
DTEND;TZID=UTC:20230730T175000
DTSTAMP:20260423T033202
CREATED:20230629T081314Z
LAST-MODIFIED:20230629T081314Z
UID:11346-1690730400-1690739400@melbournelifestyleapartments.com
SUMMARY:AFL - Richmond VS Melbourne
DESCRIPTION:2023 TOYOTA AFL PREMIERSHIP\nRound 20
URL:https://melbournelifestyleapartments.com/event/afl-richmond-vs-melbourne-2/
LOCATION:Melbourne Cricket Ground\, Brunton Avenue\, Richmond\, Victoria\, 3002\, Australia
CATEGORIES:Sport
ATTACH;FMTTYPE=image/png:https://melbournelifestyleapartments.com/wp-content/uploads/2023/06/24.png
END:VEVENT
BEGIN:VEVENT
DTSTART;TZID=UTC:20230730T131000
DTEND;TZID=UTC:20230730T154000
DTSTAMP:20260423T033202
CREATED:20230629T075938Z
LAST-MODIFIED:20230629T075938Z
UID:11344-1690722600-1690731600@melbournelifestyleapartments.com
SUMMARY:AFL - Hawthorn VS St Kilda
DESCRIPTION:2023 TOYOTA AFL PREMIERSHIP\nRound 20
URL:https://melbournelifestyleapartments.com/event/afl-hawthorn-vs-st-kilda/
LOCATION:MARVEL Stadium\, 740 Bourke Street\, Docklands\, Victoria\, 3008\, Australia
CATEGORIES:Sport
ATTACH;FMTTYPE=image/png:https://melbournelifestyleapartments.com/wp-content/uploads/2023/06/23.png
END:VEVENT
BEGIN:VEVENT
DTSTART;TZID=UTC:20230729T194500
DTEND;TZID=UTC:20230729T215500
DTSTAMP:20260423T033202
CREATED:20230629T075832Z
LAST-MODIFIED:20230629T075832Z
UID:11342-1690659900-1690667700@melbournelifestyleapartments.com
SUMMARY:AFL - Essendon VS Sydney Swans
DESCRIPTION:2023 TOYOTA AFL PREMIERSHIP\nRound 20
URL:https://melbournelifestyleapartments.com/event/afl-essendon-vs-sydney-swans/
LOCATION:MARVEL Stadium\, 740 Bourke Street\, Docklands\, Victoria\, 3008\, Australia
CATEGORIES:Sport
ATTACH;FMTTYPE=image/png:https://melbournelifestyleapartments.com/wp-content/uploads/2023/06/22.png
END:VEVENT
BEGIN:VEVENT
DTSTART;TZID=UTC:20230729T134500
DTEND;TZID=UTC:20230729T161500
DTSTAMP:20260423T033202
CREATED:20230629T075659Z
LAST-MODIFIED:20230629T075659Z
UID:11340-1690638300-1690647300@melbournelifestyleapartments.com
SUMMARY:AFL - Geelong Cats VS Freemantle Dockers
DESCRIPTION:2023 TOYOTA AFL PREMIERSHIP\nRound 20
URL:https://melbournelifestyleapartments.com/event/afl-geelong-cats-vs-freemantle-dockers-2/
LOCATION:GMHBA Stadium\, 370 Moorabool Street\, South Geelong\, Victoria\, 3220
CATEGORIES:Sport
ATTACH;FMTTYPE=image/png:https://melbournelifestyleapartments.com/wp-content/uploads/2023/06/20.png
END:VEVENT
BEGIN:VEVENT
DTSTART;TZID=UTC:20230729T134500
DTEND;TZID=UTC:20230729T161500
DTSTAMP:20260423T033202
CREATED:20230629T073833Z
LAST-MODIFIED:20230629T074547Z
UID:11335-1690638300-1690647300@melbournelifestyleapartments.com
SUMMARY:AFL - Western Bulldogs VS GWS Giants
DESCRIPTION:2023 TOYOTA AFL PREMIERSHIP\nRound 20
URL:https://melbournelifestyleapartments.com/event/afl-geelong-cats-vs-freemantle-dockers/
LOCATION:MARS Stadium\, 725 Creswick Road\, Wendouree\, Victoria\, 3355
CATEGORIES:Sport
ATTACH;FMTTYPE=image/png:https://melbournelifestyleapartments.com/wp-content/uploads/2023/06/21.png
END:VEVENT
BEGIN:VEVENT
DTSTART;TZID=UTC:20230728T200000
DTEND;TZID=UTC:20230728T223000
DTSTAMP:20260423T033202
CREATED:20230630T003631Z
LAST-MODIFIED:20230630T003631Z
UID:11410-1690574400-1690583400@melbournelifestyleapartments.com
SUMMARY:NRL - Melbourne Storm VS Parramatta Eels
DESCRIPTION:Join us for Round 22 of the NRL 2023 Premiership Season. Melbourne Storm will play 2022 NRL runners-up\, the Parramatta Eels\, on Friday night\, July 28 at Marvel Stadium. \n  \nThe superheroes of Melbourne Storm will land at Marvel Stadium for two blockbuster home matches against last year’s grand finalists as the race for the 2023 NRL premiership continues. \nFor their first time back since 2010\, and as a feature of its 25th anniversary season\, Storm will play reigning premiers Penrith on Friday night\, June 30 and 2022 NRL runners-up\, the Parramatta Eels\, on Friday\, July 28. 
URL:https://melbournelifestyleapartments.com/event/nrl-melbourne-storm-vs-parramatta-eels/
LOCATION:MARVEL Stadium\, 740 Bourke Street\, Docklands\, Victoria\, 3008\, Australia
CATEGORIES:Sport
ATTACH;FMTTYPE=image/png:https://melbournelifestyleapartments.com/wp-content/uploads/2023/06/2-1.png
END:VEVENT
BEGIN:VEVENT
DTSTART;TZID=UTC:20230728T195000
DTEND;TZID=UTC:20230728T222000
DTSTAMP:20260423T033202
CREATED:20230629T073647Z
LAST-MODIFIED:20230629T073647Z
UID:11333-1690573800-1690582800@melbournelifestyleapartments.com
SUMMARY:AFL - Collingwood VS Carlton
DESCRIPTION:2023 TOYOTA AFL PREMIERSHIP\nRound 20
URL:https://melbournelifestyleapartments.com/event/afl-collingwood-vs-carlton/
LOCATION:Melbourne Cricket Ground\, Brunton Avenue\, Richmond\, Victoria\, 3002\, Australia
CATEGORIES:Sport
ATTACH;FMTTYPE=image/png:https://melbournelifestyleapartments.com/wp-content/uploads/2023/06/19.png
END:VEVENT
BEGIN:VEVENT
DTSTART;TZID=UTC:20230723T164000
DTEND;TZID=UTC:20230723T191000
DTSTAMP:20260423T033202
CREATED:20230629T073501Z
LAST-MODIFIED:20230629T073501Z
UID:11331-1690130400-1690139400@melbournelifestyleapartments.com
SUMMARY:AFL - St Kilda VS North Melbourne
DESCRIPTION:2023 TOYOTA AFL PREMIERSHIP\nRound 19
URL:https://melbournelifestyleapartments.com/event/afl-st-kilda-vs-north-melbourne/
LOCATION:MARVEL Stadium\, 740 Bourke Street\, Docklands\, Victoria\, 3008\, Australia
CATEGORIES:Sport
ATTACH;FMTTYPE=image/png:https://melbournelifestyleapartments.com/wp-content/uploads/2023/06/18.png
END:VEVENT
BEGIN:VEVENT
DTSTART;TZID=UTC:20230723T152000
DTEND;TZID=UTC:20230723T175000
DTSTAMP:20260423T033202
CREATED:20230629T073337Z
LAST-MODIFIED:20230629T073337Z
UID:11329-1690125600-1690134600@melbournelifestyleapartments.com
SUMMARY:AFL - Melbourne VS Adelaide Crows
DESCRIPTION:2023 TOYOTA AFL PREMIERSHIP\nRound 19
URL:https://melbournelifestyleapartments.com/event/afl-melbourne-vs-adelaide-crows/
LOCATION:Melbourne Cricket Ground\, Brunton Avenue\, Richmond\, Victoria\, 3002\, Australia
CATEGORIES:Sport
ATTACH;FMTTYPE=image/png:https://melbournelifestyleapartments.com/wp-content/uploads/2023/06/17.png
END:VEVENT
BEGIN:VEVENT
DTSTART;TZID=UTC:20230722T141000
DTEND;TZID=UTC:20230722T164000
DTSTAMP:20260423T033202
CREATED:20230629T101356Z
LAST-MODIFIED:20230629T101356Z
UID:11328-1690035000-1690044000@melbournelifestyleapartments.com
SUMMARY:AFL - Carlton VS West Coast Eagles
DESCRIPTION:2023 TOYOTA AFL PREMIERSHIP\nRound 19
URL:https://melbournelifestyleapartments.com/event/afl-carlton-vs-west-coast-eagles-2/
LOCATION:MARVEL Stadium\, 740 Bourke Street\, Docklands\, Victoria\, 3008\, Australia
CATEGORIES:Sport
ATTACH;FMTTYPE=image/png:https://melbournelifestyleapartments.com/wp-content/uploads/2023/06/16.png
END:VEVENT
BEGIN:VEVENT
DTSTART;TZID=UTC:20230722T134500
DTEND;TZID=UTC:20230722T161500
DTSTAMP:20260423T033202
CREATED:20230629T073017Z
LAST-MODIFIED:20230629T073017Z
UID:11324-1690033500-1690042500@melbournelifestyleapartments.com
SUMMARY:AFL - Richmond VS Hawthorn
DESCRIPTION:2023 TOYOTA AFL PREMIERSHIP\nRound 19
URL:https://melbournelifestyleapartments.com/event/afl-richmond-vs-hawthorn/
LOCATION:Melbourne Cricket Ground\, Brunton Avenue\, Richmond\, Victoria\, 3002\, Australia
CATEGORIES:Sport
ATTACH;FMTTYPE=image/png:https://melbournelifestyleapartments.com/wp-content/uploads/2023/06/15.png
END:VEVENT
BEGIN:VEVENT
DTSTART;TZID=UTC:20230721T195000
DTEND;TZID=UTC:20230721T222000
DTSTAMP:20260423T033202
CREATED:20230629T072833Z
LAST-MODIFIED:20230629T072833Z
UID:11311-1689969000-1689978000@melbournelifestyleapartments.com
SUMMARY:AFL - Essendon VS Western Bulldogs
DESCRIPTION:2023 TOYOTA AFL PREMIERSHIP\nRound 19
URL:https://melbournelifestyleapartments.com/event/afl-essendon-vs-western-bulldogs/
LOCATION:MARVEL Stadium\, 740 Bourke Street\, Docklands\, Victoria\, 3008\, Australia
CATEGORIES:Sport
ATTACH;FMTTYPE=image/png:https://melbournelifestyleapartments.com/wp-content/uploads/2023/06/14.png
END:VEVENT
BEGIN:VEVENT
DTSTART;TZID=UTC:20230716T131000
DTEND;TZID=UTC:20230716T154000
DTSTAMP:20260423T033202
CREATED:20230627T065027Z
LAST-MODIFIED:20230627T065027Z
UID:11282-1689513000-1689522000@melbournelifestyleapartments.com
SUMMARY:AFL - North Melbourne VS Hawthorn
DESCRIPTION:2023 TOYOTA AFL PREMIERSHIP\nRound 18
URL:https://melbournelifestyleapartments.com/event/afl-north-melbourne-vs-hawthorn/
LOCATION:MARVEL Stadium\, 740 Bourke Street\, Docklands\, Victoria\, 3008\, Australia
CATEGORIES:Sport
ATTACH;FMTTYPE=image/png:https://melbournelifestyleapartments.com/wp-content/uploads/2023/06/12.png
END:VEVENT
BEGIN:VEVENT
DTSTART;TZID=UTC:20230715T192500
DTEND;TZID=UTC:20230715T215500
DTSTAMP:20260423T033202
CREATED:20230627T064907Z
LAST-MODIFIED:20230627T064907Z
UID:11280-1689449100-1689458100@melbournelifestyleapartments.com
SUMMARY:AFL - Geelong Cats VS Essendon
DESCRIPTION:2023 TOYOTA AFL PREMIERSHIP\nRound 18
URL:https://melbournelifestyleapartments.com/event/afl-geelong-cats-vs-essendon/
LOCATION:GMHBA Stadium\, 370 Moorabool Street\, South Geelong\, Victoria\, 3220
CATEGORIES:Sport
ATTACH;FMTTYPE=image/png:https://melbournelifestyleapartments.com/wp-content/uploads/2023/06/11.png
END:VEVENT
BEGIN:VEVENT
DTSTART;TZID=UTC:20230715T163500
DTEND;TZID=UTC:20230715T190500
DTSTAMP:20260423T033202
CREATED:20230627T064733Z
LAST-MODIFIED:20230627T064733Z
UID:11278-1689438900-1689447900@melbournelifestyleapartments.com
SUMMARY:AFL - Carlton VS Port Adelaide
DESCRIPTION:2023 TOYOTA AFL PREMIERSHIP\nRound 18
URL:https://melbournelifestyleapartments.com/event/afl-carlton-vs-port-adelaide/
LOCATION:MARVEL Stadium\, 740 Bourke Street\, Docklands\, Victoria\, 3008\, Australia
CATEGORIES:Sport
ATTACH;FMTTYPE=image/png:https://melbournelifestyleapartments.com/wp-content/uploads/2023/06/10.png
END:VEVENT
BEGIN:VEVENT
DTSTART;TZID=UTC:20230715T134500
DTEND;TZID=UTC:20230715T161500
DTSTAMP:20260423T033202
CREATED:20230627T064601Z
LAST-MODIFIED:20230627T064601Z
UID:11275-1689428700-1689437700@melbournelifestyleapartments.com
SUMMARY:AFL - Collingwood VS Freemantle Dockers
DESCRIPTION:2023 TOYOTA AFL PREMIERSHIP\nRound 18
URL:https://melbournelifestyleapartments.com/event/afl-collingwood-vs-freemantle-dockers/
LOCATION:Melbourne Cricket Ground\, Brunton Avenue\, Richmond\, Victoria\, 3002\, Australia
CATEGORIES:Sport
ATTACH;FMTTYPE=image/png:https://melbournelifestyleapartments.com/wp-content/uploads/2023/06/ROUND-16-1.png
END:VEVENT
BEGIN:VEVENT
DTSTART;TZID=UTC:20230714T195000
DTEND;TZID=UTC:20230714T222000
DTSTAMP:20260423T033202
CREATED:20230627T064135Z
LAST-MODIFIED:20230627T064135Z
UID:11269-1689364200-1689373200@melbournelifestyleapartments.com
SUMMARY:AFL - Melbourne VS Brisbane Lions
DESCRIPTION:2023 TOYOTA AFL PREMIERSHIP\nRound 18
URL:https://melbournelifestyleapartments.com/event/afl-melbourne-vs-brisbane-lions/
LOCATION:Melbourne Cricket Ground\, Brunton Avenue\, Richmond\, Victoria\, 3002\, Australia
CATEGORIES:Sport
ATTACH;FMTTYPE=image/png:https://melbournelifestyleapartments.com/wp-content/uploads/2023/06/9.png
END:VEVENT
BEGIN:VEVENT
DTSTART;TZID=UTC:20230714T193000
DTEND;TZID=UTC:20230714T220000
DTSTAMP:20260423T033202
CREATED:20230630T030927Z
LAST-MODIFIED:20230630T030927Z
UID:11416-1689363000-1689372000@melbournelifestyleapartments.com
SUMMARY:CommBank Matildas v France
DESCRIPTION:CommBank Matildas will host world number five\, France\, in a ‘Send Off Match’ at Melbourne’s Marvel Stadium on Friday\, 14 July 2023. \nThe fixture\, to be held on Bastille Day\, will be the final international for the CommBank Matildas prior to commencing their FIFA Women’s World Australia & New Zealand 2023™ campaign against the Republic of Ireland on 20 July. It will also mark the first time in 22 years that Australia will have faced Les Bleues on home soil. \nFamily-friendly ticket prices include tickets from as little as $50 for the general public for a family of two adults and two children. Individual tickets are available for as little as $10 for juniors.
URL:https://melbournelifestyleapartments.com/event/commbank-matildas-v-france/
LOCATION:MARVEL Stadium\, 740 Bourke Street\, Docklands\, Victoria\, 3008\, Australia
CATEGORIES:Sport
ATTACH;FMTTYPE=image/jpeg:https://melbournelifestyleapartments.com/wp-content/uploads/2023/06/Commbank-Matildas-VS-France.jpg
END:VEVENT
BEGIN:VEVENT
DTSTART;TZID=UTC:20230709T152000
DTEND;TZID=UTC:20230709T175000
DTSTAMP:20260423T033202
CREATED:20230627T062648Z
LAST-MODIFIED:20230627T062648Z
UID:11267-1688916000-1688925000@melbournelifestyleapartments.com
SUMMARY:AFL - Essendon VS Adelaide Crows
DESCRIPTION:2023 TOYOTA AFL PREMIERSHIP\nRound 17
URL:https://melbournelifestyleapartments.com/event/afl-essendon-vs-adelaide-crows/
LOCATION:MARVEL Stadium\, 740 Bourke Street\, Docklands\, Victoria\, 3008\, Australia
CATEGORIES:Sport
ATTACH;FMTTYPE=image/png:https://melbournelifestyleapartments.com/wp-content/uploads/2023/06/7.png
END:VEVENT
BEGIN:VEVENT
DTSTART;TZID=UTC:20230709T131000
DTEND;TZID=UTC:20230709T154000
DTSTAMP:20260423T033202
CREATED:20230627T062254Z
LAST-MODIFIED:20230627T062254Z
UID:11264-1688908200-1688917200@melbournelifestyleapartments.com
SUMMARY:AFL - Geelong Cats VS North Melbourne
DESCRIPTION:2023 TOYOTA AFL PREMIERSHIP\nRound 17
URL:https://melbournelifestyleapartments.com/event/afl-geelong-cats-vs-north-melbourne/
LOCATION:GMHBA Stadium\, 370 Moorabool Street\, South Geelong\, Victoria\, 3220
CATEGORIES:Sport
ATTACH;FMTTYPE=image/png:https://melbournelifestyleapartments.com/wp-content/uploads/2023/06/6.png
END:VEVENT
BEGIN:VEVENT
DTSTART;TZID=UTC:20230708T192500
DTEND;TZID=UTC:20230708T215500
DTSTAMP:20260423T033202
CREATED:20230627T061806Z
LAST-MODIFIED:20230627T062431Z
UID:11261-1688844300-1688853300@melbournelifestyleapartments.com
SUMMARY:AFL - St Kilda VS Melbourne
DESCRIPTION:2023 TOYOTA AFL PREMIERSHIP\nRound 17
URL:https://melbournelifestyleapartments.com/event/afl-st-kilda-vs-melbourne/
LOCATION:MARVEL Stadium\, 740 Bourke Street\, Docklands\, Victoria\, 3008\, Australia
CATEGORIES:Sport
ATTACH;FMTTYPE=image/png:https://melbournelifestyleapartments.com/wp-content/uploads/2023/06/ROUND-16.png
END:VEVENT
BEGIN:VEVENT
DTSTART;TZID=UTC:20230707T195000
DTEND;TZID=UTC:20230707T222000
DTSTAMP:20260423T033202
CREATED:20230627T061255Z
LAST-MODIFIED:20230627T061255Z
UID:11259-1688759400-1688768400@melbournelifestyleapartments.com
SUMMARY:AFL - Western Bulldogs VS Collingwood
DESCRIPTION:2023 TOYOTA AFL PREMIERSHIP\nRound 17
URL:https://melbournelifestyleapartments.com/event/afl-western-bulldogs-vs-collingwood/
LOCATION:MARVEL Stadium\, 740 Bourke Street\, Docklands\, Victoria\, 3008\, Australia
CATEGORIES:Sport
ATTACH;FMTTYPE=image/png:https://melbournelifestyleapartments.com/wp-content/uploads/2023/06/5.png
END:VEVENT
BEGIN:VEVENT
DTSTART;TZID=UTC:20230706T192000
DTEND;TZID=UTC:20230706T215000
DTSTAMP:20260423T033202
CREATED:20230627T061100Z
LAST-MODIFIED:20230627T061100Z
UID:11253-1688671200-1688680200@melbournelifestyleapartments.com
SUMMARY:AFL - Richmond VS Sydney Swans
DESCRIPTION:2023 TOYOTA AFL PREMIERSHIP\nRound 17
URL:https://melbournelifestyleapartments.com/event/afl-richmond-vs-sydney-swans/
LOCATION:Melbourne Cricket Ground\, Brunton Avenue\, Richmond\, Victoria\, 3002\, Australia
CATEGORIES:Sport
ATTACH;FMTTYPE=image/png:https://melbournelifestyleapartments.com/wp-content/uploads/2023/06/4.png
END:VEVENT
BEGIN:VEVENT
DTSTART;TZID=UTC:20230702T131000
DTEND;TZID=UTC:20230702T154000
DTSTAMP:20260423T033202
CREATED:20230627T045012Z
LAST-MODIFIED:20230627T051255Z
UID:11245-1688303400-1688312400@melbournelifestyleapartments.com
SUMMARY:AFL - Hawthorn VS Carlton
DESCRIPTION:2023 TOYOTA AFL PREMIERSHIP\nRound 16
URL:https://melbournelifestyleapartments.com/event/afl-hawthorn-vs-carlton/
LOCATION:Melbourne Cricket Ground\, Brunton Avenue\, Richmond\, Victoria\, 3002\, Australia
CATEGORIES:Sport
ATTACH;FMTTYPE=image/png:https://melbournelifestyleapartments.com/wp-content/uploads/2023/06/3.png
END:VEVENT
BEGIN:VEVENT
DTSTART;TZID=UTC:20230701T192500
DTEND;TZID=UTC:20230701T215500
DTSTAMP:20260423T033202
CREATED:20230627T043935Z
LAST-MODIFIED:20230627T051325Z
UID:11242-1688239500-1688248500@melbournelifestyleapartments.com
SUMMARY:AFL - Essendon VS Port Adelaide
DESCRIPTION:2023 TOYOTA AFL PREMIERSHIP\nRound 16
URL:https://melbournelifestyleapartments.com/event/afl-essendon-vs-port-adelaide/
LOCATION:Melbourne Cricket Ground\, Brunton Avenue\, Richmond\, Victoria\, 3002\, Australia
CATEGORIES:Sport
ATTACH;FMTTYPE=image/png:https://melbournelifestyleapartments.com/wp-content/uploads/2023/06/2.png
END:VEVENT
BEGIN:VEVENT
DTSTART;TZID=UTC:20230701T134500
DTEND;TZID=UTC:20230701T161500
DTSTAMP:20260423T033202
CREATED:20230627T041722Z
LAST-MODIFIED:20230627T051407Z
UID:11237-1688219100-1688228100@melbournelifestyleapartments.com
SUMMARY:AFL - Western Bulldogs VS Fremantle
DESCRIPTION:2023 TOYOTA AFL PREMIERSHIP\nRound 16
URL:https://melbournelifestyleapartments.com/event/afl-western-bulldogs-vs-fremantle/
LOCATION:MARVEL Stadium\, 740 Bourke Street\, Docklands\, Victoria\, 3008\, Australia
CATEGORIES:Sport
ATTACH;FMTTYPE=image/png:https://melbournelifestyleapartments.com/wp-content/uploads/2023/06/1.png
END:VEVENT
BEGIN:VEVENT
DTSTART;TZID=UTC:20230630T200000
DTEND;TZID=UTC:20230630T223000
DTSTAMP:20260423T033202
CREATED:20230630T003447Z
LAST-MODIFIED:20230630T003447Z
UID:11405-1688155200-1688164200@melbournelifestyleapartments.com
SUMMARY:NRL - Melbourne Storm VS Penrith Pathers
DESCRIPTION:Join us for Round 18 of the NRL 2023 Premiership Season. Melbourne Storm will play reigning premiers Penrith Panthers on Friday night\, June 30 at Marvel Stadium. \n  \nThe superheroes of Melbourne Storm will land at Marvel Stadium for two blockbuster home matches against last year’s grand finalists as the race for the 2023 NRL premiership continues. \nFor their first time back since 2010\, and as a feature of its 25th anniversary season\, Storm will play reigning premiers Penrith on Friday night\, June 30 and 2022 NRL runners-up\, the Parramatta Eels\, on Friday\, July 28. 
URL:https://melbournelifestyleapartments.com/event/nrl-melbourne-storm-vs-penrith-pathers/
LOCATION:MARVEL Stadium\, 740 Bourke Street\, Docklands\, Victoria\, 3008\, Australia
CATEGORIES:Sport
ATTACH;FMTTYPE=image/png:https://melbournelifestyleapartments.com/wp-content/uploads/2023/06/1-1.png
END:VEVENT
END:VCALENDAR