BEGIN:VCALENDAR
VERSION:2.0
PRODID:-//Melbourne Lifestyle Apartments - ECPv6.15.18//NONSGML v1.0//EN
CALSCALE:GREGORIAN
METHOD:PUBLISH
X-ORIGINAL-URL:https://melbournelifestyleapartments.com
X-WR-CALDESC:Events for Melbourne Lifestyle Apartments
REFRESH-INTERVAL;VALUE=DURATION:PT1H
X-Robots-Tag:noindex
X-PUBLISHED-TTL:PT1H
BEGIN:VTIMEZONE
TZID:UTC
BEGIN:STANDARD
TZOFFSETFROM:+0000
TZOFFSETTO:+0000
TZNAME:UTC
DTSTART:20230101T000000
END:STANDARD
END:VTIMEZONE
BEGIN:VEVENT
DTSTART;TZID=UTC:20250725T190000
DTEND;TZID=UTC:20250725T210000
DTSTAMP:20260422T130402
CREATED:20240118T051530Z
LAST-MODIFIED:20240118T051530Z
UID:12371-1753470000-1753477200@melbournelifestyleapartments.com
SUMMARY:Wallabies v The British & Irish Lions
DESCRIPTION:The Melbourne Cricket Club\, as ground manager of the MCG\, is excited to welcome the Wallabies and the British & Irish Lions for to the MCG for the second Test of a three-Test series in July 2025.
URL:https://melbournelifestyleapartments.com/event/wallabies-v-the-british-irish-lions/
LOCATION:Melbourne Cricket Ground\, Brunton Avenue\, Richmond\, Victoria\, 3002\, Australia
CATEGORIES:Sport
ATTACH;FMTTYPE=image/png:https://melbournelifestyleapartments.com/wp-content/uploads/2024/01/3-1.png
END:VEVENT
BEGIN:VEVENT
DTSTART;TZID=UTC:20250722T080000
DTEND;TZID=UTC:20250722T170000
DTSTAMP:20260422T130402
CREATED:20230801T032352Z
LAST-MODIFIED:20230801T032352Z
UID:11465-1753171200-1753203600@melbournelifestyleapartments.com
SUMMARY:The Lions v Melbourne Rebels
DESCRIPTION:The Lions will take on the Melbourne Rebels at Marvel Stadium between the first two Tests on 22 July\, 2025.\n\n\n\n\nRugby Australia and The British & Irish Lions have revealed the full fixture list for one of the largest and most prestigious Rugby events in the world\, the 2025 Lions Tour. \nThe Tour will see the Lions play nine matches in Australia\, with three Tests against the Wallabies\, and six Tour games around the country – including a match against an invitational team of players from Australia and New Zealand in Adelaide. \nThe British & Irish Lions combine the best players from England\, Ireland\, Scotland and Wales\, touring either Australia\, New Zealand or South Africa every four years – meaning the Lions only visit Australia every 12 years. The Lions Tour will be the first of the major Rugby events to visit Australia as part of the golden decade of Rugby. \nTicketing information to be released at a later date. 
URL:https://melbournelifestyleapartments.com/event/the-lions-v-melbourne-rebels/
LOCATION:MARVEL Stadium\, 740 Bourke Street\, Docklands\, Victoria\, 3008\, Australia
CATEGORIES:Sport
ATTACH;FMTTYPE=image/webp:https://melbournelifestyleapartments.com/wp-content/uploads/2023/08/Lions-v-Rebels.webp
END:VEVENT
BEGIN:VEVENT
DTSTART;TZID=UTC:20240626T180000
DTEND;TZID=UTC:20240626T200000
DTSTAMP:20260422T130402
CREATED:20240118T051239Z
LAST-MODIFIED:20240118T051239Z
UID:12366-1719424800-1719432000@melbournelifestyleapartments.com
SUMMARY:State of Origin 2024
DESCRIPTION:Step into Greatness at the ‘G for the State of Origin.\nReal rivalry heads to the historic MCG in Melbourne when the New South Wales Blues take on the Queensland Maroons in game two of the Ampol State of Origin on Wednesday June 26. \nTICKETS\nTickets for this match are now on sale via Ticketek. \nGETTING TO THE ‘G\nTo ensure you are inside the Ground in time for the match start\, arrive early and leave plenty of time for the entry process. \nDownload your ticket to your mobile for scanning upon entering the Ground. \nFind your best way to get to the MCG with our journey planner and transport option tools. For information on public transport\, pedestrian access\, taxi ranks and more\, click here. \nAT THE ‘G\n\nYou will be required to enter via the gate listed on your ticket.\nThe MCG is a cashless venue. All food\, beverage\, merchandise and ticketing outlets will be cashless – so all transactions will need to be made on your debit or credit card.\nThe MCG is a smoke\, e-cigarette and vape free venue. Patrons found smoking or vaping inside the Ground will face immediate eviction.\nAt the MCG\, your safety is our priority. If you experience any form of antisocial behaviour\, please report it by texting ‘Assist’ to the MCG’s antisocial text hotline on +61 409 117 621.\n\n\nINFORMATION FOR FAMILIES\nClick here for information for families\, including the location of Parents’ Rooms and change tables. \nMULTI-FAITH PRAYER ROOM\nThe MCG Multi-Faith Prayer Room is open to all patrons and located on Level B1 of the Shane Warne Stand (approximately behind bay M13). \nClick here for more information. \nACCESSIBILITY\nThe G’ TRAIN MOBILITY SHUTTLE SERVICE\nThe G-Train Mobility Shuttle Service operates during public events held at the MCG. \nThe service is free and accessible to patrons with mobility challenges. The G-Train also features vehicles with wheelchair-friendly access. \nPre-booking is not required; simply wait at a designated pick up point for the next available buggy. The service has pick up points from the following locations: \n\nRichmond Station\nJolimont Station\nAccessible Parking Area\n\nFind out more \nSENSORY FRIENDLY SPACE\nA Sensory Friendly Space is located within the Australian Sports Museum on Level 1 of the Olympic Stand (behind M51\, inside Gate 3). This is a space for patrons of all ages who have sensory sensitivities\, processing differences\, or other hidden disabilities. \nThere are two rooms within the space offering patrons the ability to choose between quietly watching the event in a tiered theatre or using personal sensory strategies and fidget toys to relax in a multi-purpose room. \n\nFind out more \nHEARING LOOPS\nThe MCG has many hearing loops fitted throughout the stadium to relay PA announcements. \n\nFind out more \nACCESSIBLE FACILITIES\nFor details about accessible seating\, parking\, bathrooms and companion cards click here \n 
URL:https://melbournelifestyleapartments.com/event/state-of-origin-2024/
LOCATION:Melbourne Cricket Ground\, Brunton Avenue\, Richmond\, Victoria\, 3002\, Australia
CATEGORIES:Sport
ATTACH;FMTTYPE=image/png:https://melbournelifestyleapartments.com/wp-content/uploads/2024/01/2-1.png
END:VEVENT
BEGIN:VEVENT
DTSTART;TZID=UTC:20240623T130000
DTEND;TZID=UTC:20240623T150000
DTSTAMP:20260422T130402
CREATED:20240116T043059Z
LAST-MODIFIED:20240116T043059Z
UID:12309-1719147600-1719154800@melbournelifestyleapartments.com
SUMMARY:Essendon v West Coast Eagles
DESCRIPTION:
URL:https://melbournelifestyleapartments.com/event/essendon-v-west-coast-eagles/
LOCATION:MARVEL Stadium\, 740 Bourke Street\, Docklands\, Victoria\, 3008\, Australia
CATEGORIES:Sport
ATTACH;FMTTYPE=image/png:https://melbournelifestyleapartments.com/wp-content/uploads/2024/01/24.png
END:VEVENT
BEGIN:VEVENT
DTSTART;TZID=UTC:20240622T193000
DTEND;TZID=UTC:20240622T213000
DTSTAMP:20260422T130402
CREATED:20240118T060550Z
LAST-MODIFIED:20240118T060550Z
UID:12460-1719084600-1719091800@melbournelifestyleapartments.com
SUMMARY:Melbourne v North Melbourne
DESCRIPTION:
URL:https://melbournelifestyleapartments.com/event/melbourne-v-north-melbourne/
LOCATION:Melbourne Cricket Ground\, Brunton Avenue\, Richmond\, Victoria\, 3002\, Australia
CATEGORIES:Sport
ATTACH;FMTTYPE=image/png:https://melbournelifestyleapartments.com/wp-content/uploads/2024/01/29.png
END:VEVENT
BEGIN:VEVENT
DTSTART;TZID=UTC:20240621T194000
DTEND;TZID=UTC:20240621T214000
DTSTAMP:20260422T130402
CREATED:20240118T060439Z
LAST-MODIFIED:20240118T060439Z
UID:12458-1718998800-1719006000@melbournelifestyleapartments.com
SUMMARY:Carlton v Geelong Cats
DESCRIPTION:
URL:https://melbournelifestyleapartments.com/event/carlton-v-geelong-cats/
LOCATION:Melbourne Cricket Ground\, Brunton Avenue\, Richmond\, Victoria\, 3002\, Australia
CATEGORIES:Sport
ATTACH;FMTTYPE=image/png:https://melbournelifestyleapartments.com/wp-content/uploads/2024/01/28.png
END:VEVENT
BEGIN:VEVENT
DTSTART;TZID=UTC:20240616T130000
DTEND;TZID=UTC:20240616T150000
DTSTAMP:20260422T130402
CREATED:20240116T042954Z
LAST-MODIFIED:20240116T042954Z
UID:12307-1718542800-1718550000@melbournelifestyleapartments.com
SUMMARY:North Melbourne v Collingwood
DESCRIPTION:
URL:https://melbournelifestyleapartments.com/event/north-melbourne-v-collingwood/
LOCATION:MARVEL Stadium\, 740 Bourke Street\, Docklands\, Victoria\, 3008\, Australia
CATEGORIES:Sport
ATTACH;FMTTYPE=image/png:https://melbournelifestyleapartments.com/wp-content/uploads/2024/01/23.png
END:VEVENT
BEGIN:VEVENT
DTSTART;TZID=UTC:20240615T163500
DTEND;TZID=UTC:20240615T183500
DTSTAMP:20260422T130402
CREATED:20240118T060332Z
LAST-MODIFIED:20240118T060332Z
UID:12456-1718469300-1718476500@melbournelifestyleapartments.com
SUMMARY:Richmond v Hawthorn
DESCRIPTION:
URL:https://melbournelifestyleapartments.com/event/richmond-v-hawthorn/
LOCATION:Melbourne Cricket Ground\, Brunton Avenue\, Richmond\, Victoria\, 3002\, Australia
CATEGORIES:Sport
ATTACH;FMTTYPE=image/png:https://melbournelifestyleapartments.com/wp-content/uploads/2024/01/27.png
END:VEVENT
BEGIN:VEVENT
DTSTART;TZID=UTC:20240615T134500
DTEND;TZID=UTC:20240615T154500
DTSTAMP:20260422T130402
CREATED:20240116T042853Z
LAST-MODIFIED:20240116T042853Z
UID:12305-1718459100-1718466300@melbournelifestyleapartments.com
SUMMARY:Western Bulldogs v Fremantle
DESCRIPTION:
URL:https://melbournelifestyleapartments.com/event/western-bulldogs-v-fremantle/
LOCATION:MARVEL Stadium\, 740 Bourke Street\, Docklands\, Victoria\, 3008\, Australia
CATEGORIES:Sport
ATTACH;FMTTYPE=image/png:https://melbournelifestyleapartments.com/wp-content/uploads/2024/01/22.png
END:VEVENT
BEGIN:VEVENT
DTSTART;TZID=UTC:20240610T152000
DTEND;TZID=UTC:20240610T172000
DTSTAMP:20260422T130402
CREATED:20240118T060214Z
LAST-MODIFIED:20240118T060214Z
UID:12454-1718032800-1718040000@melbournelifestyleapartments.com
SUMMARY:Collingwood v Melbourne
DESCRIPTION:
URL:https://melbournelifestyleapartments.com/event/collingwood-v-melbourne/
LOCATION:Melbourne Cricket Ground\, Brunton Avenue\, Richmond\, Victoria\, 3002\, Australia
CATEGORIES:Sport
ATTACH;FMTTYPE=image/png:https://melbournelifestyleapartments.com/wp-content/uploads/2024/01/26.png
END:VEVENT
BEGIN:VEVENT
DTSTART;TZID=UTC:20240609T192000
DTEND;TZID=UTC:20240609T212000
DTSTAMP:20260422T130402
CREATED:20240118T060106Z
LAST-MODIFIED:20240118T060106Z
UID:12452-1717960800-1717968000@melbournelifestyleapartments.com
SUMMARY:Essendon v Carlton
DESCRIPTION:
URL:https://melbournelifestyleapartments.com/event/essendon-v-carlton/
LOCATION:Melbourne Cricket Ground\, Brunton Avenue\, Richmond\, Victoria\, 3002\, Australia
CATEGORIES:Sport
ATTACH;FMTTYPE=image/png:https://melbournelifestyleapartments.com/wp-content/uploads/2024/01/25.png
END:VEVENT
BEGIN:VEVENT
DTSTART;TZID=UTC:20240608T193000
DTEND;TZID=UTC:20240608T213000
DTSTAMP:20260422T130402
CREATED:20240116T042752Z
LAST-MODIFIED:20240116T042752Z
UID:12303-1717875000-1717882200@melbournelifestyleapartments.com
SUMMARY:St Kilda v Gold Coast SUNS
DESCRIPTION:
URL:https://melbournelifestyleapartments.com/event/st-kilda-v-gold-coast-suns/
LOCATION:MARVEL Stadium\, 740 Bourke Street\, Docklands\, Victoria\, 3008\, Australia
CATEGORIES:Sport
ATTACH;FMTTYPE=image/png:https://melbournelifestyleapartments.com/wp-content/uploads/2024/01/21.png
END:VEVENT
BEGIN:VEVENT
DTSTART;TZID=UTC:20240607T184000
DTEND;TZID=UTC:20240607T204000
DTSTAMP:20260422T130402
CREATED:20240116T042646Z
LAST-MODIFIED:20240116T042646Z
UID:12301-1717785600-1717792800@melbournelifestyleapartments.com
SUMMARY:Western Bulldogs v Brisbane Lions
DESCRIPTION:
URL:https://melbournelifestyleapartments.com/event/western-bulldogs-v-brisbane-lions/
LOCATION:MARVEL Stadium\, 740 Bourke Street\, Docklands\, Victoria\, 3008\, Australia
CATEGORIES:Sport
ATTACH;FMTTYPE=image/png:https://melbournelifestyleapartments.com/wp-content/uploads/2024/01/20.png
END:VEVENT
BEGIN:VEVENT
DTSTART;TZID=UTC:20240601T134500
DTEND;TZID=UTC:20240601T154500
DTSTAMP:20260422T130402
CREATED:20240118T055958Z
LAST-MODIFIED:20240118T055958Z
UID:12450-1717249500-1717256700@melbournelifestyleapartments.com
SUMMARY:Hawthorn v Adelaide Crows
DESCRIPTION:
URL:https://melbournelifestyleapartments.com/event/hawthorn-v-adelaide-crows/
LOCATION:Melbourne Cricket Ground\, Brunton Avenue\, Richmond\, Victoria\, 3002\, Australia
CATEGORIES:Sport
ATTACH;FMTTYPE=image/png:https://melbournelifestyleapartments.com/wp-content/uploads/2024/01/24-1.png
END:VEVENT
BEGIN:VEVENT
DTSTART;TZID=UTC:20240531T184000
DTEND;TZID=UTC:20240531T204000
DTSTAMP:20260422T130402
CREATED:20240116T042544Z
LAST-MODIFIED:20240116T044520Z
UID:12299-1717180800-1717188000@melbournelifestyleapartments.com
SUMMARY:Collingwood v Western Bulldogs
DESCRIPTION:
URL:https://melbournelifestyleapartments.com/event/collingwood-v-western-bulldogs/
LOCATION:MARVEL Stadium\, 740 Bourke Street\, Docklands\, Victoria\, 3008\, Australia
CATEGORIES:Sport
ATTACH;FMTTYPE=image/png:https://melbournelifestyleapartments.com/wp-content/uploads/2024/01/19.png
END:VEVENT
BEGIN:VEVENT
DTSTART;TZID=UTC:20240526T152000
DTEND;TZID=UTC:20240526T172000
DTSTAMP:20260422T130402
CREATED:20240118T055838Z
LAST-MODIFIED:20240118T055838Z
UID:12448-1716736800-1716744000@melbournelifestyleapartments.com
SUMMARY:Melbourne v St Kilda
DESCRIPTION:
URL:https://melbournelifestyleapartments.com/event/melbourne-v-st-kilda/
LOCATION:Melbourne Cricket Ground\, Brunton Avenue\, Richmond\, Victoria\, 3002\, Australia
CATEGORIES:Sport
ATTACH;FMTTYPE=image/png:https://melbournelifestyleapartments.com/wp-content/uploads/2024/01/23-1.png
END:VEVENT
BEGIN:VEVENT
DTSTART;TZID=UTC:20240526T131000
DTEND;TZID=UTC:20240526T151000
DTSTAMP:20260422T130402
CREATED:20240116T042451Z
LAST-MODIFIED:20240116T042451Z
UID:12297-1716729000-1716736200@melbournelifestyleapartments.com
SUMMARY:Hawthorn v Brisbane Lions
DESCRIPTION:
URL:https://melbournelifestyleapartments.com/event/hawthorn-v-brisbane-lions/
LOCATION:MARVEL Stadium\, 740 Bourke Street\, Docklands\, Victoria\, 3008\, Australia
CATEGORIES:Sport
ATTACH;FMTTYPE=image/png:https://melbournelifestyleapartments.com/wp-content/uploads/2024/01/18.png
END:VEVENT
BEGIN:VEVENT
DTSTART;TZID=UTC:20240525T194000
DTEND;TZID=UTC:20240525T214000
DTSTAMP:20260422T130402
CREATED:20240118T055725Z
LAST-MODIFIED:20240118T055725Z
UID:12446-1716666000-1716673200@melbournelifestyleapartments.com
SUMMARY:Richmond v Essendon
DESCRIPTION:
URL:https://melbournelifestyleapartments.com/event/richmond-v-essendon/
LOCATION:Melbourne Cricket Ground\, Brunton Avenue\, Richmond\, Victoria\, 3002\, Australia
CATEGORIES:Sport
ATTACH;FMTTYPE=image/png:https://melbournelifestyleapartments.com/wp-content/uploads/2024/01/22-1.png
END:VEVENT
BEGIN:VEVENT
DTSTART;TZID=UTC:20240525T134500
DTEND;TZID=UTC:20240525T154500
DTSTAMP:20260422T130402
CREATED:20240116T042351Z
LAST-MODIFIED:20240116T042351Z
UID:12295-1716644700-1716651900@melbournelifestyleapartments.com
SUMMARY:Carlton v Gold Coast SUNS
DESCRIPTION:
URL:https://melbournelifestyleapartments.com/event/carlton-v-gold-coast-suns/
LOCATION:MARVEL Stadium\, 740 Bourke Street\, Docklands\, Victoria\, 3008\, Australia
CATEGORIES:Sport
ATTACH;FMTTYPE=image/png:https://melbournelifestyleapartments.com/wp-content/uploads/2024/01/17.png
END:VEVENT
BEGIN:VEVENT
DTSTART;TZID=UTC:20240523T193000
DTEND;TZID=UTC:20240523T213000
DTSTAMP:20260422T130402
CREATED:20240116T042214Z
LAST-MODIFIED:20240116T042214Z
UID:12293-1716492600-1716499800@melbournelifestyleapartments.com
SUMMARY:Western Bulldogs v Sydney Swans
DESCRIPTION:
URL:https://melbournelifestyleapartments.com/event/western-bulldogs-v-sydney-swans/
LOCATION:MARVEL Stadium\, 740 Bourke Street\, Docklands\, Victoria\, 3008\, Australia
CATEGORIES:Sport
ATTACH;FMTTYPE=image/png:https://melbournelifestyleapartments.com/wp-content/uploads/2024/01/16.png
END:VEVENT
BEGIN:VEVENT
DTSTART;TZID=UTC:20240519T131000
DTEND;TZID=UTC:20240519T151000
DTSTAMP:20260422T130402
CREATED:20240116T042059Z
LAST-MODIFIED:20240116T044328Z
UID:12281-1716124200-1716131400@melbournelifestyleapartments.com
SUMMARY:Essendon v North Melbourne
DESCRIPTION:
URL:https://melbournelifestyleapartments.com/event/essendon-v-north-melbourne/
LOCATION:MARVEL Stadium\, 740 Bourke Street\, Docklands\, Victoria\, 3008\, Australia
CATEGORIES:Sport
ATTACH;FMTTYPE=image/png:https://melbournelifestyleapartments.com/wp-content/uploads/2024/01/15.png
END:VEVENT
BEGIN:VEVENT
DTSTART;TZID=UTC:20240518T193000
DTEND;TZID=UTC:20240518T213000
DTSTAMP:20260422T130402
CREATED:20240116T041414Z
LAST-MODIFIED:20240116T041414Z
UID:12279-1716060600-1716067800@melbournelifestyleapartments.com
SUMMARY:St Kilda v Fremantle
DESCRIPTION:
URL:https://melbournelifestyleapartments.com/event/st-kilda-v-fremantle/
LOCATION:MARVEL Stadium\, 740 Bourke Street\, Docklands\, Victoria\, 3008\, Australia
CATEGORIES:Sport
ATTACH;FMTTYPE=image/png:https://melbournelifestyleapartments.com/wp-content/uploads/2024/01/14.png
END:VEVENT
BEGIN:VEVENT
DTSTART;TZID=UTC:20240518T134500
DTEND;TZID=UTC:20240518T154500
DTSTAMP:20260422T130402
CREATED:20240118T055617Z
LAST-MODIFIED:20240118T055617Z
UID:12444-1716039900-1716047100@melbournelifestyleapartments.com
SUMMARY:Collingwood v Adelaide Crows
DESCRIPTION:
URL:https://melbournelifestyleapartments.com/event/collingwood-v-adelaide-crows/
LOCATION:Melbourne Cricket Ground\, Brunton Avenue\, Richmond\, Victoria\, 3002\, Australia
CATEGORIES:Sport
ATTACH;FMTTYPE=image/png:https://melbournelifestyleapartments.com/wp-content/uploads/2024/01/21-1.png
END:VEVENT
BEGIN:VEVENT
DTSTART;TZID=UTC:20240512T130000
DTEND;TZID=UTC:20240512T150000
DTSTAMP:20260422T130402
CREATED:20240116T041312Z
LAST-MODIFIED:20240116T041312Z
UID:12277-1715518800-1715526000@melbournelifestyleapartments.com
SUMMARY:Collingwood v West Coast Eagles
DESCRIPTION:
URL:https://melbournelifestyleapartments.com/event/collingwood-v-west-coast-eagles/
LOCATION:MARVEL Stadium\, 740 Bourke Street\, Docklands\, Victoria\, 3008\, Australia
CATEGORIES:Sport
ATTACH;FMTTYPE=image/png:https://melbournelifestyleapartments.com/wp-content/uploads/2024/01/13.png
END:VEVENT
BEGIN:VEVENT
DTSTART;TZID=UTC:20240511T193000
DTEND;TZID=UTC:20240511T213000
DTSTAMP:20260422T130402
CREATED:20240118T055510Z
LAST-MODIFIED:20240118T055510Z
UID:12442-1715455800-1715463000@melbournelifestyleapartments.com
SUMMARY:Richmond v Western Bulldogs
DESCRIPTION:
URL:https://melbournelifestyleapartments.com/event/richmond-v-western-bulldogs/
LOCATION:Melbourne Cricket Ground\, Brunton Avenue\, Richmond\, Victoria\, 3002\, Australia
CATEGORIES:Sport
ATTACH;FMTTYPE=image/png:https://melbournelifestyleapartments.com/wp-content/uploads/2024/01/20-1.png
END:VEVENT
BEGIN:VEVENT
DTSTART;TZID=UTC:20240511T163500
DTEND;TZID=UTC:20240511T183500
DTSTAMP:20260422T130402
CREATED:20240116T041123Z
LAST-MODIFIED:20240116T041123Z
UID:12275-1715445300-1715452500@melbournelifestyleapartments.com
SUMMARY:Essendon v GWS GIANTS
DESCRIPTION:
URL:https://melbournelifestyleapartments.com/event/essendon-v-gws-giants/
LOCATION:MARVEL Stadium\, 740 Bourke Street\, Docklands\, Victoria\, 3008\, Australia
CATEGORIES:Sport
ATTACH;FMTTYPE=image/png:https://melbournelifestyleapartments.com/wp-content/uploads/2024/01/12.png
END:VEVENT
BEGIN:VEVENT
DTSTART;TZID=UTC:20240509T193000
DTEND;TZID=UTC:20240509T213000
DTSTAMP:20260422T130402
CREATED:20240118T055329Z
LAST-MODIFIED:20240118T055329Z
UID:12440-1715283000-1715290200@melbournelifestyleapartments.com
SUMMARY:Carlton v Melbourne
DESCRIPTION:
URL:https://melbournelifestyleapartments.com/event/carlton-v-melbourne/
LOCATION:Melbourne Cricket Ground\, Brunton Avenue\, Richmond\, Victoria\, 3002\, Australia
CATEGORIES:Sport
ATTACH;FMTTYPE=image/png:https://melbournelifestyleapartments.com/wp-content/uploads/2024/01/19-1.png
END:VEVENT
BEGIN:VEVENT
DTSTART;TZID=UTC:20240505T160000
DTEND;TZID=UTC:20240505T180000
DTSTAMP:20260422T130402
CREATED:20240116T041025Z
LAST-MODIFIED:20240116T041025Z
UID:12273-1714924800-1714932000@melbournelifestyleapartments.com
SUMMARY:Western Bulldogs v Hawthorn
DESCRIPTION:
URL:https://melbournelifestyleapartments.com/event/western-bulldogs-v-hawthorn/
LOCATION:MARVEL Stadium\, 740 Bourke Street\, Docklands\, Victoria\, 3008\, Australia
CATEGORIES:Sport
ATTACH;FMTTYPE=image/png:https://melbournelifestyleapartments.com/wp-content/uploads/2024/01/11.png
END:VEVENT
BEGIN:VEVENT
DTSTART;TZID=UTC:20240505T130000
DTEND;TZID=UTC:20240505T150000
DTSTAMP:20260422T130402
CREATED:20240118T055225Z
LAST-MODIFIED:20240118T055225Z
UID:12438-1714914000-1714921200@melbournelifestyleapartments.com
SUMMARY:Richmond v Fremantle
DESCRIPTION:
URL:https://melbournelifestyleapartments.com/event/richmond-v-fremantle/
LOCATION:Melbourne Cricket Ground\, Brunton Avenue\, Richmond\, Victoria\, 3002\, Australia
CATEGORIES:Sport
ATTACH;FMTTYPE=image/png:https://melbournelifestyleapartments.com/wp-content/uploads/2024/01/18-1.png
END:VEVENT
BEGIN:VEVENT
DTSTART;TZID=UTC:20240504T193000
DTEND;TZID=UTC:20240504T213000
DTSTAMP:20260422T130402
CREATED:20240118T055116Z
LAST-MODIFIED:20240118T055116Z
UID:12436-1714851000-1714858200@melbournelifestyleapartments.com
SUMMARY:Melbourne v Geelong Cats
DESCRIPTION:
URL:https://melbournelifestyleapartments.com/event/melbourne-v-geelong-cats/
LOCATION:Melbourne Cricket Ground\, Brunton Avenue\, Richmond\, Victoria\, 3002\, Australia
CATEGORIES:Sport
ATTACH;FMTTYPE=image/png:https://melbournelifestyleapartments.com/wp-content/uploads/2024/01/17-1.png
END:VEVENT
END:VCALENDAR