BEGIN:VCALENDAR
VERSION:2.0
PRODID:-//Melbourne Lifestyle Apartments - ECPv6.15.18//NONSGML v1.0//EN
CALSCALE:GREGORIAN
METHOD:PUBLISH
X-WR-CALNAME:Melbourne Lifestyle Apartments
X-ORIGINAL-URL:https://melbournelifestyleapartments.com
X-WR-CALDESC:Events for Melbourne Lifestyle Apartments
REFRESH-INTERVAL;VALUE=DURATION:PT1H
X-Robots-Tag:noindex
X-PUBLISHED-TTL:PT1H
BEGIN:VTIMEZONE
TZID:UTC
BEGIN:STANDARD
TZOFFSETFROM:+0000
TZOFFSETTO:+0000
TZNAME:UTC
DTSTART:20220101T000000
END:STANDARD
END:VTIMEZONE
BEGIN:VEVENT
DTSTART;TZID=UTC:20230719T170000
DTEND;TZID=UTC:20230719T235900
DTSTAMP:20260423T111534
CREATED:20230629T042051Z
LAST-MODIFIED:20230629T042051Z
UID:11298-1689786000-1689811140@melbournelifestyleapartments.com
SUMMARY:Rialto Aglow
DESCRIPTION:Rialto Aglow is a 10-day festival\, featuring interactive light installations from some of Australia’s most exciting public artists\, nightly live entertainment from 6-9pm\, and festival themed cocktails\, food and bites from 5pm until late. \nWith a new large-scale projection artwork leading into the Rialto Piazza\, interactive works of light\, music\, sound and colour will immerse the Piazza from Collins St to Flinders Lane and King Street. \nEntrance to Rialto Aglow\, and live entertainment each night\, is free for Melburnians and visitors of all ages. \nThe Rialto Aglow Winter Lights Festival is supported through the Melbourne City Revitalisation Fund – a $200 million partnership between the Victorian Government and the City of Melbourne.
URL:https://melbournelifestyleapartments.com/event/rialto-aglow/
LOCATION:Rialto\, 525 Collins Street\, Melbourne\, Victoria\, 3000\, Australia
CATEGORIES:Festival
ATTACH;FMTTYPE=image/jpeg:https://melbournelifestyleapartments.com/wp-content/uploads/2023/06/Rialto-Aglow.jpg
END:VEVENT
END:VCALENDAR